BEGIN:VCALENDAR
VERSION:2.0
PRODID:-//示如在現__易學之道 - ECPv6.6.4//NONSGML v1.0//EN
CALSCALE:GREGORIAN
METHOD:PUBLISH
X-WR-CALNAME:示如在現__易學之道
X-ORIGINAL-URL:https://www.samasati.org
X-WR-CALDESC:Events for 示如在現__易學之道
REFRESH-INTERVAL;VALUE=DURATION:PT1H
X-Robots-Tag:noindex
X-PUBLISHED-TTL:PT1H
BEGIN:VTIMEZONE
TZID:Asia/Taipei
BEGIN:STANDARD
TZOFFSETFROM:+0800
TZOFFSETTO:+0800
TZNAME:CST
DTSTART:20240101T000000
END:STANDARD
END:VTIMEZONE
BEGIN:VEVENT
DTSTART;TZID=Asia/Taipei:20241001T193000
DTEND;TZID=Asia/Taipei:20241001T213000
DTSTAMP:20260422T142546
CREATED:20240908T120507Z
LAST-MODIFIED:20240923T103836Z
UID:28875-1727811000-1727818200@www.samasati.org
SUMMARY:易學律動/神聖舞蹈工作坊 (第422期 台北周二晚上班)
DESCRIPTION:這項工作是一個秘密，一個必須被看見，被活出來的秘密。  把人帶離開他的夢，讓他直接去面對自己和生命的奧秘。  當他瞭解了奧秘的秘密，以及秘密的奧秘，他就來到了音階的終點，  回歸到了自性裡，活在平靜之中，這對他是最好的了，其它夫復何求呢？  ~ 葛吉夫 George Gurdjeff \n\n \n你是否準備好了一切，卻因緊張焦慮而而失常？所有的努力付諸流水。\n你是否經常胡思亂想，而無法專心在當下該做的事情上，而效率低落品質不佳？\n你是否困擾於知道得很多，而實際能做到的卻很少？\n你是否一下「內卷」，一下「躺平」，面對生命不知如何是好？\n你是否知道，這一切只因為我們缺乏「做」的能力而已。\n \n其實只要有個適當的環境，實際的體驗，加上特定的「練習」，就會發現自己有「能力」免除上述的種種「內在顧慮」所帶來的困擾。擁有輕鬆從容面對生活與工作的態度，以及提升工作與生命品質的能力。而「易學律動」正是帶領你一步步從「認識自己」「優化自己」進而達到「成為自己」「欣賞自己」的特殊方法。\n \n很多人認為優化生命、蛻變自己很困難，而我們的經驗是，只要現在開始，永遠不會太遲。課程裡你將發現：只要開始，你就無法不覺知，一旦行動，你就只能在當下。這是一種超級犀利的方法，頭腦、身體、與情感三者同時並用，從人的最核心、最根本之處開始改變。「意識」將會提升與擴展、「意志」將更為堅定、「意願」將能夠實踐與完成。擁有「既輕鬆又清楚」的意識狀態，以及「自律」「自信」「自由」與「自在」的生命品質。 \n\n 工作坊內容： \n\n\n\n透過「律動」直接體驗與實踐並驗證《心經》的經文。\n透過字形與字義，學習如何「學」與「習」，從學渣到學霸。\n認識《易經》的「觀卦」，鍛鍊六種層次的「觀察」方式與能力。\n運用「樸克牌」認識自己的內在運作模式，並讓他們有效運作。\n以「老子三寶」貫穿學習與生命蛻變過程，獲得事半功倍之效。\n用「葛吉夫神聖舞蹈」來練習、鍛鍊與驗證理論的正確性與有效性。\n\n\n\n工作坊目標： \n\n深入觀察自己理智、情感、運動、和本能四種機能的慣性運作方式。\n深刻經驗在犯錯與挫折時，產生內心糾結與所帶來的負面影嚮，然後找出輕鬆穿越的方式。\n學習在混亂當中，找到有用線索，優雅脫困，鍛練自己解決問題與面對困難的能力。\n有效提升意識狀態，延長擁有注意力的時間，擴展注意力的廣度和深度。\n鍛鍊不受別人與外境影嚮的能力，提高工作效率與質量。\n收攝心神，擁有專注又放鬆的能力，處在寧靜、安祥與和諧的狀態中。\n擁有「自律」「自信」「自由」與「自在」的生命品質，活出自己生命的芬芳。\n\n\n導師介紹： 林世儒，高金美。一對持續工作自己的靈魂伴侶，從事教學工作三十年。致力於用現代的方式詮釋古今中外的智慧，把《易經 》《大學》《第四道》以及當代心理學等要義，整理成身心靈成長的【易學之道】，以落實在生活中，增進生命的素質。設計有「易學按摩」(養生主靈性按摩)、「易學律動」（葛吉夫神聖舞蹈）、「易學正坐」等課程，主持Podcast【示如在現】《成為自己活在當下》節目。致力於協助人們，透過「工作自己」的方式獲得身心內外的和諧和喜悅，進而成為自己並欣賞自己，然後融於社會又保有個體性，讓生命優游於生活之中。 \n\n學員經驗分享： \n\n難以置信的蛻變 / 周婉玲(南寧)：那一刻，不需要老師的看見，不需要老師表揚鼓勵，自己就很清楚的知道我做對了，老師有沒有發現，有沒有表揚鼓勵變得一點都不重要了，內心就油然而生了一種自信的力量，純粹全然、毫無疑惑……\n無所畏亦無所求《易學律動》第1天 / 尚靈心 (北京)：我問世儒老師，老師您練過了這麼多不同的心靈成長法門，您也看見這麼多人都活得痛苦，您怎麼能忍住不出手相救呢？做一個個案，或做一個啥的，幫助對方一把，您覺得好不好？……\n不是舞蹈的舞蹈 / 方圓(上海)：這個發現對於我當時的身心，無異於一場驚天霹靂。生活中一幕幕的場景閃電般掠過眼前，震撼到我最深的認知：原來在生活中，我始終感覺自己像陀螺一樣持續旋轉，沒有一絲空隙可以喘息，因此身心俱毀，萬念俱灰。但其實……\n發出感動自己的聲音 / 黃詩君(台北)：神奇的是， 當…不糾結於錯誤，給自己時間重新開始時，我的聲音聽起來沉穩而有力。身體的動作會影響內在的情感。內在的情感又會影響聲音的品質。這是我之前從未想到過的……\n當「三心二意歸於一」時 / 林淑真(新北)：我的身體越來越熟悉那些動作，對於「專注且放鬆」卻是無法體會，一直到有一天，因為暈眩到醫院做檢查，這才發現數「數字」對自己專注能力的影響，在儀器的紀錄下，每當我在心裡默數著世儒教的「數字」串時，儀器上專注力的指標就明顯上升……\n生活版的「印地安老爺爺」/ 李錚(南寧)：我知道神聖舞蹈不同的音樂配不同的舞蹈，除非老師另有說明。啊！全班近20人都錯了，我在心裡狂喊：「你們有沒有知道自己跳的是哪支舞啊？！」，並且很擔心地看著林老師怎麼處理這個問題……\n那個沒有「我」的舞蹈 /陳璽圳(北京)：最近我開始領會和東方老師學習的好處——特別是中國文化背景下的老師——因為我們有著同一樣的根，他吸收了東方的智慧之道，把養分化入內在貯存數十年，潛心精藏，最後那養分也能滋養你同一樣東方的根。但是中國人還是容易崇洋媚外……\n神聖舞蹈與如何愛孩子 / 陳靜雅 (上海)：我的心裡有一個聲音，也是我上心靈成長類課程的初心：讓我做自己的主人，也讓我的孩子做自己的主人。孩子現在如果不能做自己想做的事情，那麽他長大後也許會像我一樣不知道自己想要的是什麽。\n更多的學員課後分享……\n\n\n工作坊資訊 (台北週二、周三、新竹、台中密集等班的時間與地點) 【日期】: 2024年10月01日-12月31日 【時間】: 每週二晚上19:30~21:30 【地點】: 台北市中山北路六段246號4樓 【費用】: 9\,600元/人(新生)。(匯款資訊在填完報名表後，自動發至所留之信箱) 【聯絡】: 0922-424-275 \n\n點我立即報名
URL:https://www.samasati.org/event/%e6%98%93%e5%ad%b8%e5%be%8b%e5%8b%95-%e7%a5%9e%e8%81%96%e8%88%9e%e8%b9%88%e5%b7%a5%e4%bd%9c%e5%9d%8a-%e7%ac%ac422%e6%9c%9f-%e5%8f%b0%e5%8c%97%e5%91%a8%e4%ba%8c%e6%99%9a%e4%b8%8a%e7%8f%ad/
CATEGORIES:易學律動
ATTACH;FMTTYPE=image/jpeg:https://www.samasati.org/wp-content/uploads/2024/01/成為自己_易學之道_神聖舞蹈_顛倒夢想.jpg
END:VEVENT
BEGIN:VEVENT
DTSTART;TZID=Asia/Taipei:20241002T133000
DTEND;TZID=Asia/Taipei:20241002T163000
DTSTAMP:20260422T142546
CREATED:20240908T121824Z
LAST-MODIFIED:20240923T103921Z
UID:28877-1727875800-1727886600@www.samasati.org
SUMMARY:易學律動/神聖舞蹈工作坊 (第423期 台北週三下午班)
DESCRIPTION:這項工作是一個秘密，一個必須被看見，被活出來的秘密。  把人帶離開他的夢，讓他直接去面對自己和生命的奧秘。  當他瞭解了奧秘的秘密，以及秘密的奧秘，他就來到了音階的終點，  回歸到了自性裡，活在平靜之中，這對他是最好的了，其它夫復何求呢？  ~ 葛吉夫 George Gurdjeff \n\n \n你是否準備好了一切，卻因緊張焦慮而而失常？所有的努力付諸流水。\n你是否經常胡思亂想，而無法專心在當下該做的事情上，而效率低落品質不佳？\n你是否困擾於知道得很多，而實際能做到的卻很少？\n你是否一下「內卷」，一下「躺平」，面對生命不知如何是好？\n你是否知道，這一切只因為我們缺乏「做」的能力而已。\n \n其實只要有個適當的環境，實際的體驗，加上特定的「練習」，就會發現自己有「能力」免除上述的種種「內在顧慮」所帶來的困擾。擁有輕鬆從容面對生活與工作的態度，以及提升工作與生命品質的能力。而「易學律動」正是帶領你一步步從「認識自己」「優化自己」進而達到「成為自己」「欣賞自己」的特殊方法。\n \n很多人認為優化生命、蛻變自己很困難，而我們的經驗是，只要現在開始，永遠不會太遲。課程裡你將發現：只要開始，你就無法不覺知，一旦行動，你就只能在當下。這是一種超級犀利的方法，頭腦、身體、與情感三者同時並用，從人的最核心、最根本之處開始改變。「意識」將會提升與擴展、「意志」將更為堅定、「意願」將能夠實踐與完成。擁有「既輕鬆又清楚」的意識狀態，以及「自律」「自信」「自由」與「自在」的生命品質。 \n\n 工作坊內容： \n\n\n\n透過「律動」直接體驗與實踐並驗證《心經》的經文。\n透過字形與字義，學習如何「學」與「習」，從學渣到學霸。\n認識《易經》的「觀卦」，鍛鍊六種層次的「觀察」方式與能力。\n運用「樸克牌」認識自己的內在運作模式，並讓他們有效運作。\n以「老子三寶」貫穿學習與生命蛻變過程，獲得事半功倍之效。\n用「葛吉夫神聖舞蹈」來練習、鍛鍊與驗證理論的正確性與有效性。\n\n\n\n工作坊目標： \n\n深入觀察自己理智、情感、運動、和本能四種機能的慣性運作方式。\n深刻經驗在犯錯與挫折時，產生內心糾結與所帶來的負面影嚮，然後找出輕鬆穿越的方式。\n學習在混亂當中，找到有用線索，優雅脫困，鍛練自己解決問題與面對困難的能力。\n有效提升意識狀態，延長擁有注意力的時間，擴展注意力的廣度和深度。\n鍛鍊不受別人與外境影嚮的能力，提高工作效率與質量。\n收攝心神，擁有專注又放鬆的能力，處在寧靜、安祥與和諧的狀態中。\n擁有「自律」「自信」「自由」與「自在」的生命品質，活出自己生命的芬芳。\n\n\n導師介紹： 林世儒，高金美。一對持續工作自己的靈魂伴侶，從事教學工作三十年。致力於用現代的方式詮釋古今中外的智慧，把《易經 》《大學》《第四道》以及當代心理學等要義，整理成身心靈成長的【易學之道】，以落實在生活中，增進生命的素質。設計有「易學按摩」(養生主靈性按摩)、「易學律動」（葛吉夫神聖舞蹈）、「易學正坐」等課程，主持Podcast【示如在現】《成為自己活在當下》節目。致力於協助人們，透過「工作自己」的方式獲得身心內外的和諧和喜悅，進而成為自己並欣賞自己，然後融於社會又保有個體性，讓生命優游於生活之中。 \n\n學員經驗分享： \n\n難以置信的蛻變 / 周婉玲(南寧)：那一刻，不需要老師的看見，不需要老師表揚鼓勵，自己就很清楚的知道我做對了，老師有沒有發現，有沒有表揚鼓勵變得一點都不重要了，內心就油然而生了一種自信的力量，純粹全然、毫無疑惑……\n無所畏亦無所求《易學律動》第1天 / 尚靈心 (北京)：我問世儒老師，老師您練過了這麼多不同的心靈成長法門，您也看見這麼多人都活得痛苦，您怎麼能忍住不出手相救呢？做一個個案，或做一個啥的，幫助對方一把，您覺得好不好？……\n不是舞蹈的舞蹈 / 方圓(上海)：這個發現對於我當時的身心，無異於一場驚天霹靂。生活中一幕幕的場景閃電般掠過眼前，震撼到我最深的認知：原來在生活中，我始終感覺自己像陀螺一樣持續旋轉，沒有一絲空隙可以喘息，因此身心俱毀，萬念俱灰。但其實……\n發出感動自己的聲音 / 黃詩君(台北)：神奇的是， 當…不糾結於錯誤，給自己時間重新開始時，我的聲音聽起來沉穩而有力。身體的動作會影響內在的情感。內在的情感又會影響聲音的品質。這是我之前從未想到過的……\n當「三心二意歸於一」時 / 林淑真(新北)：我的身體越來越熟悉那些動作，對於「專注且放鬆」卻是無法體會，一直到有一天，因為暈眩到醫院做檢查，這才發現數「數字」對自己專注能力的影響，在儀器的紀錄下，每當我在心裡默數著世儒教的「數字」串時，儀器上專注力的指標就明顯上升……\n生活版的「印地安老爺爺」/ 李錚(南寧)：我知道神聖舞蹈不同的音樂配不同的舞蹈，除非老師另有說明。啊！全班近20人都錯了，我在心裡狂喊：「你們有沒有知道自己跳的是哪支舞啊？！」，並且很擔心地看著林老師怎麼處理這個問題……\n那個沒有「我」的舞蹈 /陳璽圳(北京)：最近我開始領會和東方老師學習的好處——特別是中國文化背景下的老師——因為我們有著同一樣的根，他吸收了東方的智慧之道，把養分化入內在貯存數十年，潛心精藏，最後那養分也能滋養你同一樣東方的根。但是中國人還是容易崇洋媚外……\n神聖舞蹈與如何愛孩子 / 陳靜雅 (上海)：我的心裡有一個聲音，也是我上心靈成長類課程的初心：讓我做自己的主人，也讓我的孩子做自己的主人。孩子現在如果不能做自己想做的事情，那麽他長大後也許會像我一樣不知道自己想要的是什麽。\n更多的學員課後分享……\n\n\n\n\n工作坊資訊 (台北、新竹等其他各班的時間與地點) 【日期】2024年10月02日-2024年12月18日 【時間】每週三下午13:30~15:30 【地點】台北市延吉街233巷12號B1(捷運國父紀念館站2號出口，步行七分鐘) 【費用】9\,600元/人(新生)，9\,000元/人(舊生)。(匯款資訊在填完報名表後，自動發至所留之信箱) 【聯絡】0922-424-275 (Misherr) \n\n點我立即報名
URL:https://www.samasati.org/event/%e6%98%93%e5%ad%b8%e5%be%8b%e5%8b%95-%e7%a5%9e%e8%81%96%e8%88%9e%e8%b9%88%e5%b7%a5%e4%bd%9c%e5%9d%8a-%e7%ac%ac423%e6%9c%9f-%e5%8f%b0%e5%8c%97%e9%80%b1%e4%b8%89%e4%b8%8b%e5%8d%88%e7%8f%ad/
CATEGORIES:易學律動
ATTACH;FMTTYPE=image/jpeg:https://www.samasati.org/wp-content/uploads/2024/03/易學之道＿成為自己＿易學律動＿神聖舞蹈＿痛而不苦.jpg
END:VEVENT
BEGIN:VEVENT
DTSTART;TZID=Asia/Taipei:20241006T093000
DTEND;TZID=Asia/Taipei:20241006T173000
DTSTAMP:20260422T142546
CREATED:20240908T122418Z
LAST-MODIFIED:20240923T104054Z
UID:28879-1728207000-1728235800@www.samasati.org
SUMMARY:易學律動/神聖舞蹈工作坊 (第424期 新竹週日白天班)
DESCRIPTION:  \n\n這項工作是一個秘密，一個必須被看見，被活出來的秘密。  把人帶離開他的夢，讓他直接去面對自己和生命的奧秘。  當他瞭解了奧秘的秘密，以及秘密的奧秘，他就來到了音階的終點，  回歸到了自性裡，活在平靜之中，這對他是最好的了，其它夫復何求呢？  ~ 葛吉夫 George Gurdjeff ~ \n\n當今是一個現況難以描述、未來無法預測、一切都有可能年代，對於令人焦慮的不明未來，我們要如何寬心面對並安身立命呢？我們需要的是一種能力，一種葛吉大師所說的【做的能力】。  那是一種每個人都誤認為自己擁有，而實際上卻完全沒有的能力。而【易學律動/神聖舞蹈】課程的主要目標之一，就是在鍛鍊這種能夠【做的能力】。鍛鍊出理智、情感、和身體，三個中心同時處在當下和諧運作，能夠在錯誤中學習，主動地去解決問題，並且能夠承擔過程中種種不適與艱辛的適應能力 ，擁有自信、活得自在、任運自由，成為自己的主人。 【易學律動/神聖舞蹈】顧名思義是一種舞蹈，但它完全不同於任何一種舞蹈形式，而是來自四千多年前中亞的修行法門，同時結合《易經 》《大學》《第四道》以及當代心理學等理論的應用，融合而成一種朝向自己內在旅程的途徑。  因此課程除了要學習神聖舞蹈之外，更是為了要「工作自己」，鍛鍊出「成為自己」的素質和能力，有勇氣參加這種內在之旅的人，其心靈將會在毫無預警的情況之下，不預期的看到自己偽裝良好的弱點和長處。他將會喚醒沉睡已久的內在智慧，然後自覺的在心靈迷宮裡，從虛假個性的蛛絲馬跡中，發現真實的自我本質，本質是暗藏在生活慣性之下的無價珍寶。   透過【易學律動/神聖舞蹈】所進行的內在之旅，將會在自己所忽略的慣性和渴望中的理想自我來回穿梭，每個人都會在不知不覺當中成長與茁壯，並且獲知什麼才是自己生命中應該努力去爭取的，以及分辨出什麼是毫無價值的寶貝。邀請願意真實面對自己，正視自己與他人價值，極力去發掘、獲取和尊重人性寶藏的人參加。 \n\n工作坊內容： \n\n\n\n透過「律動」直接體驗與實踐並驗證《心經》的經文。\n透過字形與字義，學習如何「學」與「習」，從學渣到學霸。\n認識《易經》的「觀卦」，鍛鍊六種層次的「觀察」方式與能力。\n運用「樸克牌」認識自己的內在運作模式，並讓他們有效運作。\n以「老子三寶」貫穿學習與生命蛻變過程，獲得事半功倍之效。\n用「葛吉夫神聖舞蹈」來練習、鍛鍊與驗證理論的正確性與有效性。\n\n\n\n工作坊目標： \n\n深入觀察自己理智、情感、運動、和本能四種機能的慣性運作方式。\n深刻經驗在犯錯與挫折時，產生內心糾結與所帶來的負面影嚮，然後找出輕鬆穿越的方式。\n學習在混亂當中，找到有用線索，優雅脫困，鍛練自己解決問題與面對困難的能力。\n有效提升意識狀態，延長擁有注意力的時間，擴展注意力的廣度和深度。\n鍛鍊不受別人與外境影嚮的能力，提高工作效率與質量。\n收攝心神，擁有專注又放鬆的能力，處在寧靜、安祥與和諧的狀態中。\n擁有「自律」「自信」「自由」與「自在」的生命品質，活出自己生命的芬芳。\n\n\n導師介紹 林世儒，高金美。一對持續工作自己的靈魂伴侶，從事教學工作三十年。致力於用現代的方式詮釋古今中外的智慧，把《易經 》《大學》《第四道》以及當代心理學等要義，整理成身心靈成長的【易學之道】，以落實在生活中，增進生命的素質。設計有「易學按摩」(養生主靈性按摩)、「易學律動」（葛吉夫神聖舞蹈）、「易學正坐」等課程，主持Podcast【示如在現】《成為自己活在當下》節目。致力於協助人們，透過「工作自己」的方式獲得身心內外的和諧和喜悅，進而成為自己並欣賞自己，然後融於社會又保有個體性，讓生命優游於生活之中。 \n\n學員經驗分享： \n\n難以置信的蛻變 / 周婉玲(南寧)：那一刻，不需要老師的看見，不需要老師表揚鼓勵，自己就很清楚的知道我做對了，老師有沒有發現，有沒有表揚鼓勵變得一點都不重要了，內心就油然而生了一種自信的力量，純粹全然、毫無疑惑……\n無所畏亦無所求《易學律動》第1天 / 尚靈心 (北京)：我問世儒老師，老師您練過了這麼多不同的心靈成長法門，您也看見這麼多人都活得痛苦，您怎麼能忍住不出手相救呢？做一個個案，或做一個啥的，幫助對方一把，您覺得好不好？……\n不是舞蹈的舞蹈 / 方圓(上海)：這個發現對於我當時的身心，無異於一場驚天霹靂。生活中一幕幕的場景閃電般掠過眼前，震撼到我最深的認知：原來在生活中，我始終感覺自己像陀螺一樣持續旋轉，沒有一絲空隙可以喘息，因此身心俱毀，萬念俱灰。但其實……\n發出感動自己的聲音 / 黃詩君(台北)：神奇的是， 當…不糾結於錯誤，給自己時間重新開始時，我的聲音聽起來沉穩而有力。身體的動作會影響內在的情感。內在的情感又會影響聲音的品質。這是我之前從未想到過的……\n當「三心二意歸於一」時 / 林淑真(新北)：我的身體越來越熟悉那些動作，對於「專注且放鬆」卻是無法體會，一直到有一天，因為暈眩到醫院做檢查，這才發現數「數字」對自己專注能力的影響，在儀器的紀錄下，每當我在心裡默數著世儒教的「數字」串時，儀器上專注力的指標就明顯上升……\n生活版的「印地安老爺爺」/ 李錚(南寧)：我知道神聖舞蹈不同的音樂配不同的舞蹈，除非老師另有說明。啊！全班近20人都錯了，我在心裡狂喊：「你們有沒有知道自己跳的是哪支舞啊？！」，並且很擔心地看著林老師怎麼處理這個問題……\n那個沒有「我」的舞蹈 /陳璽圳(北京)：最近我開始領會和東方老師學習的好處——特別是中國文化背景下的老師——因為我們有著同一樣的根，他吸收了東方的智慧之道，把養分化入內在貯存數十年，潛心精藏，最後那養分也能滋養你同一樣東方的根。但是中國人還是容易崇洋媚外……\n神聖舞蹈與如何愛孩子 / 陳靜雅 (上海)：我的心裡有一個聲音，也是我上心靈成長類課程的初心：讓我做自己的主人，也讓我的孩子做自己的主人。孩子現在如果不能做自己想做的事情，那麽他長大後也許會像我一樣不知道自己想要的是什麽。\n更多的學員課後分享……\n\n\n\n\n\n\n工作坊資訊 (其他台北週二、周三、新竹、台中密集等班的時間與地點) 【日期】: 2024年10月06日，11月03日，12月01日 【時間】: 星期日上午09:30~17:30 【地點】: 竹北市高鐵一路13號1樓 (近高鐵新竹站走路3分鐘，慕溪園Mercy Café) 【費用】: 9\,600元/人(新生)。(匯款資訊在填完報名表後，自動發至所留之信箱) 【聯絡】: 0922-424-275 \n\n點我立即報名
URL:https://www.samasati.org/event/%e6%98%93%e5%ad%b8%e5%be%8b%e5%8b%95-%e7%a5%9e%e8%81%96%e8%88%9e%e8%b9%88%e5%b7%a5%e4%bd%9c%e5%9d%8a-%e7%ac%ac424%e6%9c%9f-%e6%96%b0%e7%ab%b9%e9%80%b1%e6%97%a5%e7%99%bd%e5%a4%a9%e7%8f%ad/
CATEGORIES:易學律動
ATTACH;FMTTYPE=image/jpeg:https://www.samasati.org/wp-content/uploads/2024/03/易學之道＿成為自己＿易學律動＿神聖舞蹈＿掌握細節.jpg
END:VEVENT
BEGIN:VEVENT
DTSTART;TZID=Asia/Taipei:20241012T093000
DTEND;TZID=Asia/Taipei:20241012T173000
DTSTAMP:20260422T142546
CREATED:20240908T123850Z
LAST-MODIFIED:20240923T104131Z
UID:28885-1728725400-1728754200@www.samasati.org
SUMMARY:易學律動/神聖舞蹈工作坊 (第425期 台北週六白天班)
DESCRIPTION:這項工作是一個秘密，一個必須被看見，被活出來的秘密。  把人帶離開他的夢，讓他直接去面對自己和生命的奧秘。  當他瞭解了奧秘的秘密，以及秘密的奧秘，他就來到了音階的終點，  回歸到了自性裡，活在平靜之中，這對他是最好的了，其它夫復何求呢？  ~ 葛吉夫 George Gurdjeff \n\n \n你是否準備好了一切，卻因緊張焦慮而而失常？所有的努力付諸流水。\n你是否經常胡思亂想，而無法專心在當下該做的事情上，而效率低落品質不佳？\n你是否困擾於知道得很多，而實際能做到的卻很少？\n你是否一下「內卷」，一下「躺平」，面對生命不知如何是好？\n你是否知道，這一切只因為我們缺乏「做」的能力而已。\n \n其實只要有個適當的環境，實際的體驗，加上特定的「練習」，就會發現自己有「能力」免除上述的種種「內在顧慮」所帶來的困擾。擁有輕鬆從容面對生活與工作的態度，以及提升工作與生命品質的能力。而「易學律動」正是帶領你一步步從「認識自己」「優化自己」進而達到「成為自己」「欣賞自己」的特殊方法。\n \n很多人認為優化生命、蛻變自己很困難，而我們的經驗是，只要現在開始，永遠不會太遲。課程裡你將發現：只要開始，你就無法不覺知，一旦行動，你就只能在當下。這是一種超級犀利的方法，頭腦、身體、與情感三者同時並用，從人的最核心、最根本之處開始改變。「意識」將會提升與擴展、「意志」將更為堅定、「意願」將能夠實踐與完成。擁有「既輕鬆又清楚」的意識狀態，以及「自律」「自信」「自由」與「自在」的生命品質。 \n\n工作坊內容： \n\n\n\n透過「律動」直接體驗與實踐並驗證《心經》的經文。\n透過字形與字義，學習如何「學」與「習」，從學渣到學霸。\n認識《易經》的「觀卦」，鍛鍊六種層次的「觀察」方式與能力。\n運用「樸克牌」認識自己的內在運作模式，並讓他們有效運作。\n以「老子三寶」貫穿學習與生命蛻變過程，獲得事半功倍之效。\n用「葛吉夫神聖舞蹈」來練習、鍛鍊與驗證理論的正確性與有效性。\n\n\n\n工作坊目標： \n\n深入觀察自己理智、情感、運動、和本能四種機能的慣性運作方式。\n深刻經驗在犯錯與挫折時，產生內心糾結與所帶來的負面影嚮，然後找出輕鬆穿越的方式。\n學習在混亂當中，找到有用線索，優雅脫困，鍛練自己解決問題與面對困難的能力。\n有效提升意識狀態，延長擁有注意力的時間，擴展注意力的廣度和深度。\n鍛鍊不受別人與外境影嚮的能力，提高工作效率與質量。\n收攝心神，擁有專注又放鬆的能力，處在寧靜、安祥與和諧的狀態中。\n擁有「自律」「自信」「自由」與「自在」的生命品質，活出自己生命的芬芳。\n\n\n導師介紹： 林世儒，高金美。一對持續工作自己的靈魂伴侶，從事教學工作三十年。致力於用現代的方式詮釋古今中外的智慧，把《易經 》《大學》《第四道》以及當代心理學等要義，整理成身心靈成長的【易學之道】，以落實在生活中，增進生命的素質。設計有「易學按摩」(養生主靈性按摩)、「易學律動」（葛吉夫神聖舞蹈）、「易學正坐」等課程，主持Podcast【示如在現】《成為自己活在當下》節目。致力於協助人們，透過「工作自己」的方式獲得身心內外的和諧和喜悅，進而成為自己並欣賞自己，然後融於社會又保有個體性，讓生命優游於生活之中。 \n\n學員經驗分享： \n\n不是舞蹈的舞蹈 / 方圓(上海)：這個發現對於我當時的身心，無異於一場驚天霹靂。生活中一幕幕的場景閃電般掠過眼前，震撼到我最深的認知：原來在生活中，我始終感覺自己像陀螺一樣持續旋轉，沒有一絲空隙可以喘息，因此身心俱毀，萬念俱灰。但其實……\n發出感動自己的聲音 / 黃詩君(台北)：神奇的是， 當…不糾結於錯誤，給自己時間重新開始時，我的聲音聽起來沉穩而有力。身體的動作會影響內在的情感。內在的情感又會影響聲音的品質。這是我之前從未想到過的……\n當「三心二意歸於一」時 / 林淑真(新北)：我的身體越來越熟悉那些動作，對於「專注且放鬆」卻是無法體會，一直到有一天，因為暈眩到醫院做檢查，這才發現數「數字」對自己專注能力的影響，在儀器的紀錄下，每當我在心裡默數著世儒教的「數字」串時，儀器上專注力的指標就明顯上升……\n生活版的「印地安老爺爺」/ 李錚(南寧)：我知道神聖舞蹈不同的音樂配不同的舞蹈，除非老師另有說明。啊！全班近20人都錯了，我在心裡狂喊：「你們有沒有知道自己跳的是哪支舞啊？！」，並且很擔心地看著林老師怎麼處理這個問題……\n那個沒有「我」的舞蹈 /陳璽圳(北京)：最近我開始領會和東方老師學習的好處——特別是中國文化背景下的老師——因為我們有著同一樣的根，他吸收了東方的智慧之道，把養分化入內在貯存數十年，潛心精藏，最後那養分也能滋養你同一樣東方的根。但是中國人還是容易崇洋媚外……\n神聖舞蹈與如何愛孩子 / 陳靜雅 (上海)：我的心裡有一個聲音，也是我上心靈成長類課程的初心：讓我做自己的主人，也讓我的孩子做自己的主人。孩子現在如果不能做自己想做的事情，那麽他長大後也許會像我一樣不知道自己想要的是什麽。\n更多的學員課後分享……\n\n\n\n\n工作坊： (其他週二、周三、週六、週日、假日、台北、新竹、台中等班的時間與地點) 【日期】: 2024年10月12日，11月02日，12月07日 【時間】: 09:30~17:30 【地點】: 台北市延吉街233巷12號B1(捷運國父紀念館站2號出口，步行七分鐘) 【費用】: 9\,600元/人(新生)。(匯款資訊在填完報名表後，自動發至所留之信箱) 【聯絡】: 0922-424-275 (Misherr) \n\n點我立即報名
URL:https://www.samasati.org/event/%e6%98%93%e5%ad%b8%e5%be%8b%e5%8b%95-%e7%a5%9e%e8%81%96%e8%88%9e%e8%b9%88%e5%b7%a5%e4%bd%9c%e5%9d%8a-%e7%ac%ac425%e6%9c%9f-%e5%8f%b0%e5%8c%97%e9%80%b1%e5%85%ad%e7%99%bd%e5%a4%a9%e7%8f%ad/
CATEGORIES:易學律動
ATTACH;FMTTYPE=image/jpeg:https://www.samasati.org/wp-content/uploads/2023/11/易學律動_易學之道_神聖舞蹈_潤物無聲.jpg
END:VEVENT
END:VCALENDAR