BEGIN:VCALENDAR
VERSION:2.0
PRODID:-//示如在現__易學之道 - ECPv6.6.4//NONSGML v1.0//EN
CALSCALE:GREGORIAN
METHOD:PUBLISH
X-ORIGINAL-URL:https://www.samasati.org
X-WR-CALDESC:Events for 示如在現__易學之道
REFRESH-INTERVAL;VALUE=DURATION:PT1H
X-Robots-Tag:noindex
X-PUBLISHED-TTL:PT1H
BEGIN:VTIMEZONE
TZID:Asia/Taipei
BEGIN:STANDARD
TZOFFSETFROM:+0800
TZOFFSETTO:+0800
TZNAME:CST
DTSTART:20250101T000000
END:STANDARD
END:VTIMEZONE
BEGIN:VEVENT
DTSTART;TZID=Asia/Taipei:20250214T093000
DTEND;TZID=Asia/Taipei:20250216T173000
DTSTAMP:20260425T213053
CREATED:20241216T085833Z
LAST-MODIFIED:20250109T045704Z
UID:28919-1739525400-1739727000@www.samasati.org
SUMMARY:【易學按摩】工作坊 (第240期 台北三日營)
DESCRIPTION:從小就害怕與人肢體接觸的世儒老師，於1989年在《莊子養生主》篇的啓發之下，設計出了一套可作用於人的身體、心理和靈性三個層面的特殊按摩方式，並開始教學工作。世界知名的系統排列療法祖師爺，海寧格大師在2000年接受過這套按摩之後十分驚艷，親筆為文推薦說：「我可以很確信地說：這對於很多尋求解除身體與靈魂痛苦的人而言，將會是一大祝福….」。到了2015年林老師更從《易經》《大學》等傳統經典獲得養份，讓整套按摩內涵更深入，更容易學習，而且成效更好，足以做為心靈成長的長期鍛鍊法門。 \n【易學按摩】不須任何基礎，簡單、易學、輕鬆、有效。因此特別適合沒有任何身體工作經驗的人學習。而專業的按摩工作者，將本按摩的身法與心法，應用在原本的按摩手法，可以帶來整體品質的大幅提升，用更少的能量與輕鬆省力的方式，進入更深層與更舒服的感受，更重要的是不但可以減少按摩師本身的消耗，並會為自己帶來能量的提升與增進。【易學按摩】是一種可以帶來雙贏，共同受益的特殊按摩模式與體系。 \n課程中除了要學習各種有效讓人放鬆的按摩「手法」之外，更重要的是練習有高效使用身體的「身法」，用最少的能量，獲得最佳的效果。還有最重要的蛻變個人素質的「心法」，在還沒開始按摩之前，就能開始產生效果。【易學按摩】所傳達的不只是一套完整的全身按摩，它也是一套身心靈修行的方法，它更是徹底改變生命素質的有效方式。 \n課程內容： \n\n學會只花十分鐘就能讓人快速進入深度放鬆狀態，躺在地上不想起來的「起手式」。\n三天學會全程八十分鐘的完整全身按摩，在為人服務的同時，增進自己的身心靈成長。\n重新學習有效率使用身體的方式，善用地心引力與人體工學，借力使力以輕鬆省力不費勁的方式為人按摩，並可應用在所有的肢體活動上，帶來事半功倍的效果。\n練習收攝心神，專注又放鬆的意識，處在寧靜、安祥與和諧的狀態中，進行按摩與各項活動。\n透過為人按摩別人來修心養性，開發「情感中心」的機能，奠定消除「內在顧慮」停止內耗與提升「外在考量」關懷別人的能力，學會接納與臣服，讓愛流動增進情感，並轉化個人內在品質。\n\n馴化人的「腦、心、腹」三個中心，特別是增強與自己身體(運動中心與本能中心)的連接，以及提升碰觸他人肢體時的敏銳度，帶來高品質的接觸。 \n學員經驗分享： \n  \n【易學按摩工作坊】\n【日期】2025/02/14（五）-02/16（日）共三天\n【時間】09:00 ~ 17:30\n【地點】台北市延吉街233巷12號B1(捷運國父紀念館站2號出口，步行七分鐘)\n【費用】定價25\,000元/人，早鳥價22\,500元/人(1/31之前報名繳費)。(匯款資訊在填完報名表後，自動發至所留之信箱)\n【聯絡】0922-424-275 (Misherr) \n\n【報名請點擊我】\n\n點我查閱：、或更多精采的，
URL:https://www.samasati.org/event/%e6%98%93%e5%ad%b8%e6%8c%89%e6%91%a9/
LOCATION:台北教室(三)\, 延吉街233巷12號B1\, 台北市\, 台灣
CATEGORIES:易學按摩
ATTACH;FMTTYPE=image/jpeg:https://www.samasati.org/wp-content/uploads/2023/06/易學按摩_易學之道_同為異功.jpg
ORGANIZER;CN="%E7%A4%BA%E5%A6%82%E6%98%93%E5%AD%B8%E6%88%90%E9%95%B7%E4%B8%AD%E5%BF%83":MAILTO:event@gmail.com
END:VEVENT
BEGIN:VEVENT
DTSTART;TZID=Asia/Taipei:20250508T203000
DTEND;TZID=Asia/Taipei:20250511T160000
DTSTAMP:20260425T213053
CREATED:20240215T045033Z
LAST-MODIFIED:20250310T041050Z
UID:28677-1746736200-1746979200@www.samasati.org
SUMMARY:易學靜心工作坊(身心優化三日營)
DESCRIPTION:生命不應只是變老，更要持續的變好，「道法自然」順應勢能，活出本然的自己！ \n生活是一連串重複事件的總合，你我長期身在其中，難免失去了敏銳的覺察能力，而失去當下，每天只是循著慣性行事。長久以來我們失去了與自己內在的連結，更是失去內在的力量。日復一日的重複，這樣的生命令我們感到無去、無聊、無力，我們開始想要突破現狀時，找回自己存在的意義、重現對生命的熱情、對生活與工作的動力，這便是來到了轉化的時刻！ \n在這門特別設計的課程中，自覺、自律與自主的能力將會被大幅度的擴展與提升。活動從報到後的第二天早上開始，直到課程結束，沒有所謂的上下課，只分為必須出席的「團體時間」，大家全心的「學」，以及自行安排的「個別時間」將課上所「學」的，加以練「習」與實踐。所以需要整個人(頭腦、身體與情感)的完全投入，這是透過日常的行住坐臥的活動中，鍛鍊出讓頭腦知道、身體做到、與內心同時感受到的特殊學習方式與體驗。 \n易學之道工作坊將是超越的表象，在度假的心情與氛圍當中，透過有趣的遊戲、身體工作、靜心、律動/神聖舞蹈等活動，進一步走向內在的提升與轉化的歷程，幫助你穩固過去所學得的各種知識與技巧內在的根基。從外到內、從頭腦知道到身體力行的逐步引導過程，不僅幫助你重拾內在的秩序，更是助你積累內在力量的鍛鍊。適合希望突破現狀的人，更是可鍛鍊自律、自信、自由、自在，無論順境逆境都能怡然自得的能力。 \n \n課程目標：\n從中文字型結構與造字原則，學習習如何有效學習與激發創意。\n應用易經觀卦、臨卦、咸卦、復卦於擴展覺知，活在當下的能力。\n詳解奧修靜心技巧，輕鬆有效的釋放累積的緊張與壓力，帶來生命最初的活力與幹勁。\n精修葛吉夫律動，鍛鍊不受外界紛擾的影響，專心致一朝向既定目標的能力。\n透過生活與工作的日常動作，有效攝心並帶來感官復甦與覺知的擴展。\n鍛鍊超越表象直入內在核心的觀察力。 \n課程安排：(三天三夜)\n第一夜 20:00-20:30 學員報到\n20:30:21:30 課程進行方式說明，認識同學與環境\n第一天 07:00-第三天17:30 (課程開始至結束，中間不下課，時間自主管理) \n曾包班上易學靜心 (原名：易學之道寧靜藝術工作坊) 的單位：\n文化總會生命教育委員會\n國際生命線台灣總會\n國際生命線台北分會\n國際生命線桃園分會\n新北市家庭教育中心\n宜蘭縣家庭教育中心\n花蓮縣家庭教育中心\n海寧格台灣系統排列機構\n……… \n工作坊： \n【日期】: 2025年05月08日20:30 ~ 05月11日16:00(三天三夜)\n【地點】: 苗栗縣頭份市尖下里136-10號（鹿橋山莊）\n【費用】: 含學費食宿 28\,000元/人 。(03/15前報名繳費享早鳥價25\,200元)\n【匯款】: 台灣銀行五股分行 戶名:林世儒 帳號:(004)135004618213\n【聯絡】: 林世儒 0922-738-102 \n\n點我立即報名
URL:https://www.samasati.org/event/%e3%80%90%e6%98%93%e5%ad%b8%e9%9d%9c%e5%bf%83%e5%b7%a5%e4%bd%9c%e5%9d%8a%e3%80%91%ef%bd%9e%e8%ae%8a%e8%80%81%e6%9b%b4%e8%a6%81%e8%ae%8a%e5%a5%bd/
CATEGORIES:易學靜心
ATTACH;FMTTYPE=image/png:https://www.samasati.org/wp-content/uploads/2022/12/cropped-易學之道logo-淡500.png
ORGANIZER;CN="%E7%A4%BA%E5%A6%82%E6%98%93%E5%AD%B8%E6%88%90%E9%95%B7%E4%B8%AD%E5%BF%83":MAILTO:event@gmail.com
END:VEVENT
END:VCALENDAR