BEGIN:VCALENDAR
VERSION:2.0
PRODID:-//示如在現__易學之道 - ECPv6.6.4//NONSGML v1.0//EN
CALSCALE:GREGORIAN
METHOD:PUBLISH
X-ORIGINAL-URL:https://www.samasati.org
X-WR-CALDESC:Events for 示如在現__易學之道
REFRESH-INTERVAL;VALUE=DURATION:PT1H
X-Robots-Tag:noindex
X-PUBLISHED-TTL:PT1H
BEGIN:VTIMEZONE
TZID:Asia/Shanghai
BEGIN:STANDARD
TZOFFSETFROM:+0800
TZOFFSETTO:+0800
TZNAME:CST
DTSTART:20190101T000000
END:STANDARD
TZID:UTC
BEGIN:STANDARD
TZOFFSETFROM:+0000
TZOFFSETTO:+0000
TZNAME:UTC
DTSTART:20190101T000000
END:STANDARD
TZID:Asia/Taipei
BEGIN:STANDARD
TZOFFSETFROM:+0800
TZOFFSETTO:+0800
TZNAME:CST
DTSTART:20190101T000000
END:STANDARD
END:VTIMEZONE
BEGIN:VEVENT
DTSTART;TZID=Asia/Shanghai:20200407T193000
DTEND;TZID=Asia/Shanghai:20200407T213000
DTSTAMP:20260422T052020
CREATED:20200221T042048Z
LAST-MODIFIED:20200407T070648Z
UID:508-1586287800-1586295000@www.samasati.org
SUMMARY:易學律動/神聖舞蹈工作坊 (344 台北)
DESCRIPTION:本（334）期「易學律動/葛吉夫神聖舞蹈」今日正式開始，因應新冠肺炎防疫需求，上課地點本月份先改在台北市中山北路六段246號4F，（台北市中山北路六段/克強路口，全家便利商店隔壁棟)。依慣例準時上下課，每週二晚上 7:30~9:30。\n因有幾位新同學加入，會找一兩隻較容易學習的舊舞深入細節，讓三個中心都能同時到位。另外還要延續原「根植大地」的基本功之外，希望能進一步做到站立時能像鳥一樣，一隻腳著地，另一隻腳彎曲收起休息。確保能輕鬆且不費注意力的「根植大地」。 \n上課後最大的感覺，就是「喜歡」，喜歡的不得了。很喜歡跳舞過程中與自己在一起的感覺。喜歡它舞蹈的嚴謹和優美，而且對我這種頭腦太過靈活，絕對一心可以數用的人來說，這個舞蹈帶來的考驗是很特別的。就像世儒說的，靜坐的時候，我們常常走神而不自覺。 \n對我來說，靜坐是很痛苦的，因為過程中我得不停的和我的頭腦交戰，三十分鐘下來，自我安慰至少「坐」到了。但是在跳神聖舞蹈的時候，我必須專心一至，否則馬上跳錯。這種修練，不但有趣，有美感，而且可以曝露一個人的個性。看到自己對於做錯的反應，對於自己做不好的時候的態度，都在在顯示了你當下的狀態和對生活事件的慣性反應。 \n——張德芬（華人地區首席身心靈作家） \n易學律動——透過東西方古老的智慧，改善當今的生命質量。 \n· 容易學會的身心律動：看清慣性消除緊張焦慮自責，從錯誤中學習抗壓與穿越糾結，遇事不慌亂。 \n· 容易學成的基本練習：紮根地面改變體態擴大眼界，註意力歸於中心不受外界影嚮，內在有定力。 \n· 容易學好的易經智慧：調整心態有效改善生命質量，帶來身心和諧舉止優雅的品質，喜悅做自己。 \n甚麼是易學律動 \n數千年前東方的兩河流域（黃河、洛水）產生了華夏文明，而其智慧結晶「易經」指導著人們的生活至今。西方的兩河文明（幼發拉底河，底格裡斯河）則孕育出了類似舞蹈（葛吉夫律動）般的鍛練方式，來增進生命素質。 \n五千年後東西雙方的兩河文明在此相會，將會為我們的生命帶來甚麼進展？ \n神聖舞蹈的發現者和創始人葛吉夫，為了探索生命的奧祕，游遍中亞許多地方，他在參訪一些古老的修行團體、寺廟或特殊民族部落時，發現他們的一些舞蹈動作，活像一個字母表。舞蹈的每個手勢或姿勢都是一個字，組合起來就像一本書，每組動作、旋律都是一個語句，有它自身文法、詞彙及語義用法。古代的人，就通過音樂和這些舞蹈，把他們的智慧傳承下去。 \n具有三十年律動教學經驗的林世儒老師，近幾年來學習易經之後有著驚奇的發現，東西雙方的智慧竟然彼此融合且相互補充，可以簡單又容易的為我們的生命質量帶來提升與成長。經由學習與鍛鍊即可改善現代人容易焦慮、緊張、註意力不集中的困擾，因犯小錯而內心糾結、自責而表現不佳，然後失去動力與熱情的負面影嚮。 \n而在實際的律動練習中，我們將看到自己的慣性糢式，搭配易經的指引，將會找出一條適合自己的改善之道，更加覺知敏銳同時又不受外界影嚮，輕鬆的面對生活與工作的挫折與壓力。為自己的生命帶來身心輕松，頭腦清楚，內外和諧，舉止優雅的品質。 \n葛吉夫律動（易學律動）的效用？ \n初期它像一面照妖鏡原原本本照出自我的性格，初學者刻意想隱藏的自己，如焦慮、緊張、無助、挫折、走神、擔憂、自大、驕傲、忌妒、好功…..等負面情緒與思想。 \n學習過程中這些對生命成長沒有助益的部分將一一被去除，留下輕松、專註、優雅、寧靜、和諧、自信、穩定……正向素質。 \n與你的身體建立真實的、全然的、深入的聯結，並幫助與他人建立超越自我人格的，真實的、必要的聯結和更加臨在的交流。 \n加強我們在自己中心的能力，抗壓的能力，以及記得自己的能力；在你的左右腦之間建立新的神經連接，並開發右腦；找到內在男性能量和女性能量的平衡點。 \n超越我們3個層面的限制：身體，情感和理智，從而重獲自尊與自信；發展我們的三個中心，使他們和諧且平衡；成為真正能「做」的人；提升至更高品質的覺知及能量，將更多覺知的能量帶到我們這個星球。 \n遠離負面情緒，熱情全然的生活；幫助我們面對「我必須做」和「我做不到」之間內在掙紮；學會寬待我們的錯誤，並且有創造性的從錯誤中學習。 \n你願意體驗神聖舞蹈帶給你的喜悅和和平嗎？ \n工作坊內容 \n十分鐘看懂八個經卦及其象徵意義，為學習易經奠定基礎。\n看清卦象與錯、綜、複、雜等四種變化，應用於學習與生活工作。\n透過學習三支「律動」，深入觀察自己理智、情感、運動、和本能四種機能的慣性運作方式。\n深刻經驗在犯錯與挫折時，產生內心糾結與所帶來的負面影嚮，然後找出恰當的方式輕鬆穿越。\n學習在混亂當中，找到有用線索優雅脫困，鍛練自己解決問題與困難的能力。\n有效提升意識狀態，延長擁有註意力的時間，擴展註意力的廣度和深度，讓腦、心、腹三者和諧的一起工作，提升效率與質量，並且不受別人與外境影嚮。\n練習收攝心神，專註又放鬆的意識，處在寧靜、安祥與和諧的狀態中。 \n導師介紹 \n林世儒，高金美。一對持續工作自己的靈魂伴侶，從事教學工作三十年。致力於用現代的方式詮釋古今中外的智慧，把經典落實在生活中，增進生命的質量。設計有「養生主靈性按摩」(易學按摩)、「葛吉夫神聖舞蹈」（易學律動）、「易學正坐」等課程。發願以有生之年協助人們，透過「工作自己」的方式獲得身心內外的和諧和喜悅，進而成為自己並欣賞自己，然後融於社會又保有個體性，讓生命優游於生活之中。 \n工作坊資訊 \n【日期】2020年4月7日-6月30日\n【時間】19:30~21:30\n【地址】 示如葛吉夫神聖舞團\n【費用】8500元/人\n【報名咨詢】Misherr 0922-424-275 \n\n[contact-form-7 id=”514″ title=”易學律動/神聖舞蹈工作坊(第334期 台北) 報名表”]
URL:https://www.samasati.org/event/508/
LOCATION:台北教室(二)\, 中山北路六段246號4樓\, 台北市\, 112\, 台灣
CATEGORIES:易學律動
ORGANIZER;CN="%E7%A4%BA%E5%A6%82%E8%91%9B%E5%90%89%E5%A4%AB%E7%A5%9E%E8%81%96%E8%88%9E%E5%9C%98":MAILTO:movement@samasati.org
END:VEVENT
BEGIN:VEVENT
DTSTART;TZID=Asia/Shanghai:20200314T100000
DTEND;TZID=Asia/Shanghai:20200315T180000
DTSTAMP:20260422T052020
CREATED:20190807T051031Z
LAST-MODIFIED:20200221T051256Z
UID:410-1584180000-1584295200@www.samasati.org
SUMMARY:易學律動/神聖舞蹈工作坊 (343 台北)
DESCRIPTION:上課後最大的感覺，就是「喜歡」，喜歡的不得了。很喜歡跳舞過程中與自己在一起的感覺。喜歡它舞蹈的嚴謹和優美，而且對我這種頭腦太過靈活，絕對一心可以數用的人來說，這個舞蹈帶來的考驗是很特別的。就像世儒說的，靜坐的時候，我們常常走神而不自覺。 \n對我來說，靜坐是很痛苦的，因為過程中我得不停的和我的頭腦交戰，三十分鐘下來，自我安慰至少「坐」到了。但是在跳神聖舞蹈的時候，我必須專心一至，否則馬上跳錯。這種修練，不但有趣，有美感，而且可以曝露一個人的個性。看到自己對於做錯的反應，對於自己做不好的時候的態度，都在在顯示了你當下的狀態和對生活事件的慣性反應。 \n——張德芬（華人地區首席身心靈作家） \n\n易學律動——透過東西方古老的智慧，改善當今的生命質量。 \n· 容易學會的身心律動：看清慣性消除緊張焦慮自責，從錯誤中學習抗壓與穿越糾結，遇事不慌亂。 \n· 容易學成的基本練習：紮根地面改變體態擴大眼界，註意力歸於中心不受外界影嚮，內在有定力。 \n· 容易學好的易經智慧：調整心態有效改善生命質量，帶來身心和諧舉止優雅的品質，喜悅做自己。 \n\n甚麼是易學律動 \n數千年前東方的兩河流域（黃河、洛水）產生了華夏文明，而其智慧結晶「易經」指導著人們的生活至今。西方的兩河文明（幼發拉底河，底格裡斯河）則孕育出了類似舞蹈（葛吉夫律動）般的鍛練方式，來增進生命素質。 \n五千年後東西雙方的兩河文明在此相會，將會為我們的生命帶來甚麼進展？ \n神聖舞蹈的發現者和創始人葛吉夫，為了探索生命的奧祕，游遍中亞許多地方，他在參訪一些古老的修行團體、寺廟或特殊民族部落時，發現他們的一些舞蹈動作，活像一個字母表。舞蹈的每個手勢或姿勢都是一個字，組合起來就像一本書，每組動作、旋律都是一個語句，有它自身文法、詞彙及語義用法。古代的人，就通過音樂和這些舞蹈，把他們的智慧傳承下去。 \n \n具有三十年律動教學經驗的林世儒老師，近幾年來學習易經之後有著驚奇的發現，東西雙方的智慧竟然彼此融合且相互補充，可以簡單又容易的為我們的生命質量帶來提升與成長。經由學習與鍛鍊即可改善現代人容易焦慮、緊張、註意力不集中的困擾，因犯小錯而內心糾結、自責而表現不佳，然後失去動力與熱情的負面影嚮。 \n而在實際的律動練習中，我們將看到自己的慣性糢式，搭配易經的指引，將會找出一條適合自己的改善之道，更加覺知敏銳同時又不受外界影嚮，輕鬆的面對生活與工作的挫折與壓力。為自己的生命帶來身心輕松，頭腦清楚，內外和諧，舉止優雅的品質。 \n\n葛吉夫律動（易學律動）的效用？ \n初期它像一面照妖鏡原原本本照出自我的性格，初學者刻意想隱藏的自己，如焦慮、緊張、無助、挫折、走神、擔憂、自大、驕傲、忌妒、好功…..等負面情緒與思想。 \n學習過程中這些對生命成長沒有助益的部分將一一被去除，留下輕松、專註、優雅、寧靜、和諧、自信、穩定……正向素質。 \n與你的身體建立真實的、全然的、深入的聯結，並幫助與他人建立超越自我人格的，真實的、必要的聯結和更加臨在的交流。 \n加強我們在自己中心的能力，抗壓的能力，以及記得自己的能力；在你的左右腦之間建立新的神經連接，並開發右腦；找到內在男性能量和女性能量的平衡點。 \n超越我們3個層面的限制：身體，情感和理智，從而重獲自尊與自信；發展我們的三個中心，使他們和諧且平衡；成為真正能「做」的人；提升至更高品質的覺知及能量，將更多覺知的能量帶到我們這個星球。 \n遠離負面情緒，熱情全然的生活；幫助我們面對「我必須做」和「我做不到」之間內在掙紮；學會寬待我們的錯誤，並且有創造性的從錯誤中學習。 \n\n你願意體驗神聖舞蹈帶給你的喜悅和和平嗎？ \n工作坊內容 \n\n十分鐘看懂八個經卦及其象徵意義，為學習易經奠定基礎。\n看清卦象與錯、綜、複、雜等四種變化，應用於學習與生活工作。\n透過學習三支「律動/神聖舞蹈」，深入觀察自己理智、情感、運動、和本能四種機能的慣性運作方式。\n深刻經驗在犯錯與挫折時，產生內心糾結與所帶來的負面影嚮，然後找出恰當的方式輕鬆穿越。\n學習在混亂當中，找到有用線索優雅脫困，鍛練自己解決問題與困難的能力。\n有效提升意識狀態，延長擁有註意力的時間，擴展註意力的廣度和深度，讓腦、心、腹三者和諧的一起工作，提升效率與質量，並且不受別人與外境影嚮。\n練習收攝心神，專註又放鬆的意識，處在寧靜、安祥與和諧的狀態中。\n\n\n導師介紹 \n林世儒，高金美。一對持續工作自己的靈魂伴侶，從事教學工作三十年。致力於用現代的方式詮釋古今中外的智慧，把經典落實在生活中，增進生命的質量。設計有「養生主靈性按摩」(易學按摩)、「葛吉夫神聖舞蹈」（易學律動）、「易學正坐」等課程。發願以有生之年協助人們，透過「工作自己」的方式獲得身心內外的和諧和喜悅，進而成為自己並欣賞自己，然後融於社會又保有個體性，讓生命優游於生活之中。 \n\n工作坊資訊 \n【日期】2020年3月14日-15日\n【時間】10:00~18:00\n【地址】台北市延吉街PATH實驗場\n【費用】$7\,800  \n【優惠價格】早鳥優惠$6\,800/人 （02/28前報名繳費）\n【報名咨詢】Misherr 0922-424-275 \n\n[contact-form-7 id=”24″ title=”易經 x 葛吉夫律動深度工作坊 報名表”]
URL:https://www.samasati.org/event/%e6%98%93%e5%ad%b8%e5%be%8b%e5%8b%95-%e7%a5%9e%e8%81%96%e8%88%9e%e8%b9%88%e5%b7%a5%e4%bd%9c%e5%9d%8a-339-%e5%8f%b0%e5%8c%97/
LOCATION:PATH實驗場\, 延吉街233巷12號B1\, 台北市\, 台灣
CATEGORIES:易學律動
ORGANIZER;CN="%E7%A4%BA%E5%A6%82%E8%91%9B%E5%90%89%E5%A4%AB%E7%A5%9E%E8%81%96%E8%88%9E%E5%9C%98":MAILTO:movement@samasati.org
END:VEVENT
BEGIN:VEVENT
DTSTART;TZID=Asia/Shanghai:20200108T193000
DTEND;TZID=Asia/Shanghai:20200108T213000
DTSTAMP:20260422T052020
CREATED:20200221T041824Z
LAST-MODIFIED:20200221T043110Z
UID:506-1578511800-1578519000@www.samasati.org
SUMMARY:易學律動/神聖舞蹈工作坊 (342台北)
DESCRIPTION:上課後最大的感覺，就是「喜歡」，喜歡的不得了。很喜歡跳舞過程中與自己在一起的感覺。喜歡它舞蹈的嚴謹和優美，而且對我這種頭腦太過靈活，絕對一心可以數用的人來說，這個舞蹈帶來的考驗是很特別的。就像世儒說的，靜坐的時候，我們常常走神而不自覺。 \n對我來說，靜坐是很痛苦的，因為過程中我得不停的和我的頭腦交戰，三十分鐘下來，自我安慰至少「坐」到了。但是在跳神聖舞蹈的時候，我必須專心一至，否則馬上跳錯。這種修練，不但有趣，有美感，而且可以曝露一個人的個性。看到自己對於做錯的反應，對於自己做不好的時候的態度，都在在顯示了你當下的狀態和對生活事件的慣性反應。 \n——張德芬（華人地區首席身心靈作家） \n\n易學律動——透過東西方古老的智慧，改善當今的生命質量。 \n· 容易學會的身心律動：看清慣性消除緊張焦慮自責，從錯誤中學習抗壓與穿越糾結，遇事不慌亂。 \n· 容易學成的基本練習：紮根地面改變體態擴大眼界，註意力歸於中心不受外界影嚮，內在有定力。 \n· 容易學好的易經智慧：調整心態有效改善生命質量，帶來身心和諧舉止優雅的品質，喜悅做自己。 \n\n甚麼是易學律動 \n數千年前東方的兩河流域（黃河、洛水）產生了華夏文明，而其智慧結晶「易經」指導著人們的生活至今。西方的兩河文明（幼發拉底河，底格裡斯河）則孕育出了類似舞蹈（葛吉夫律動）般的鍛練方式，來增進生命素質。 \n五千年後東西雙方的兩河文明在此相會，將會為我們的生命帶來甚麼進展？ \n神聖舞蹈的發現者和創始人葛吉夫，為了探索生命的奧祕，游遍中亞許多地方，他在參訪一些古老的修行團體、寺廟或特殊民族部落時，發現他們的一些舞蹈動作，活像一個字母表。舞蹈的每個手勢或姿勢都是一個字，組合起來就像一本書，每組動作、旋律都是一個語句，有它自身文法、詞彙及語義用法。古代的人，就通過音樂和這些舞蹈，把他們的智慧傳承下去。 \n具有三十年律動教學經驗的林世儒老師，近幾年來學習易經之後有著驚奇的發現，東西雙方的智慧竟然彼此融合且相互補充，可以簡單又容易的為我們的生命質量帶來提升與成長。經由學習與鍛鍊即可改善現代人容易焦慮、緊張、註意力不集中的困擾，因犯小錯而內心糾結、自責而表現不佳，然後失去動力與熱情的負面影嚮。 \n而在實際的律動練習中，我們將看到自己的慣性糢式，搭配易經的指引，將會找出一條適合自己的改善之道，更加覺知敏銳同時又不受外界影嚮，輕鬆的面對生活與工作的挫折與壓力。為自己的生命帶來身心輕松，頭腦清楚，內外和諧，舉止優雅的品質。 \n\n葛吉夫律動（易學律動）的效用？ \n初期它像一面照妖鏡原原本本照出自我的性格，初學者刻意想隱藏的自己，如焦慮、緊張、無助、挫折、走神、擔憂、自大、驕傲、忌妒、好功…..等負面情緒與思想。 \n學習過程中這些對生命成長沒有助益的部分將一一被去除，留下輕松、專註、優雅、寧靜、和諧、自信、穩定……正向素質。 \n與你的身體建立真實的、全然的、深入的聯結，並幫助與他人建立超越自我人格的，真實的、必要的聯結和更加臨在的交流。 \n加強我們在自己中心的能力，抗壓的能力，以及記得自己的能力；在你的左右腦之間建立新的神經連接，並開發右腦；找到內在男性能量和女性能量的平衡點。 \n超越我們3個層面的限制：身體，情感和理智，從而重獲自尊與自信；發展我們的三個中心，使他們和諧且平衡；成為真正能「做」的人；提升至更高品質的覺知及能量，將更多覺知的能量帶到我們這個星球。 \n遠離負面情緒，熱情全然的生活；幫助我們面對「我必須做」和「我做不到」之間內在掙紮；學會寬待我們的錯誤，並且有創造性的從錯誤中學習。 \n\n你願意體驗神聖舞蹈帶給你的喜悅和和平嗎？ \n工作坊內容 \n\n十分鐘看懂八個經卦及其象徵意義，為學習易經奠定基礎。\n看清卦象與錯、綜、複、雜等四種變化，應用於學習與生活工作。\n透過學習三支「律動」，深入觀察自己理智、情感、運動、和本能四種機能的慣性運作方式。\n深刻經驗在犯錯與挫折時，產生內心糾結與所帶來的負面影嚮，然後找出恰當的方式輕鬆穿越。\n學習在混亂當中，找到有用線索優雅脫困，鍛練自己解決問題與困難的能力。\n有效提升意識狀態，延長擁有註意力的時間，擴展註意力的廣度和深度，讓腦、心、腹三者和諧的一起工作，提升效率與質量，並且不受別人與外境影嚮。\n練習收攝心神，專註又放鬆的意識，處在寧靜、安祥與和諧的狀態中。\n\n導師介紹 \n林世儒，高金美。一對持續工作自己的靈魂伴侶，從事教學工作三十年。致力於用現代的方式詮釋古今中外的智慧，把經典落實在生活中，增進生命的質量。設計有「養生主靈性按摩」(易學按摩)、「葛吉夫神聖舞蹈」（易學律動）、「易學正坐」等課程。發願以有生之年協助人們，透過「工作自己」的方式獲得身心內外的和諧和喜悅，進而成為自己並欣賞自己，然後融於社會又保有個體性，讓生命優游於生活之中。 \n工作坊資訊 \n【日期】2019年10月1日-12月31日\n【時間】19:30~21:30\n【地址】 示如葛吉夫神聖舞團\n【費用】8500元/人\n【報名咨詢】Misherr 0922-424-275
URL:https://www.samasati.org/event/%e6%98%93%e5%ad%b8%e5%be%8b%e5%8b%95-%e7%a5%9e%e8%81%96%e8%88%9e%e8%b9%88%e5%b7%a5%e4%bd%9c%e5%9d%8a-342%e5%8f%b0%e5%8c%97/
LOCATION:台北教室(二)\, 中山北路六段246號4樓\, 台北市\, 112\, 台灣
CATEGORIES:易學律動
ORGANIZER;CN="%E7%A4%BA%E5%A6%82%E8%91%9B%E5%90%89%E5%A4%AB%E7%A5%9E%E8%81%96%E8%88%9E%E5%9C%98":MAILTO:movement@samasati.org
END:VEVENT
BEGIN:VEVENT
DTSTART;TZID=Asia/Shanghai:20191206T093000
DTEND;TZID=Asia/Shanghai:20191208T173000
DTSTAMP:20260422T052020
CREATED:20190718T073614Z
LAST-MODIFIED:20190807T045217Z
UID:131-1575624600-1575826200@www.samasati.org
SUMMARY:易學律動/神聖舞蹈工作坊(341 吉隆坡)
DESCRIPTION:?【簡介】\n✔︎ 容易學會的身心律動 — 看清慣性消除緊張焦慮自責，從錯誤中學習抗壓與穿越糾結，遇事不慌亂。\n✔︎ 容易學成的基本練習 — 紮根地面改變體態擴大眼界，註意力歸於中心不受外界影嚮，內在有定力。\n✔︎ 容易學好的易經智慧 — 調整心態有效改善生命質量，帶來身心和諧舉止優雅的品質，喜悅做自己。 \n數千年前東方的兩河流域（黃河、洛水）產生了華夏文明，而其智慧結晶「易經」指導著人們的生活至今。西方的兩河文明（幼發拉底河，底格裡斯河）則孕育出了類似舞蹈（葛吉夫律動）般的鍛練方式，來增進生命素質。五千年後東西雙方的兩河文明在此相會，將會為我們的生命帶來甚麼進展？ \n具有三十年律動教學經驗的林世儒老師，近幾年來學習易經之後有著驚奇的發現，東西雙方的智慧竟然彼此融合且相互補充，可以簡單又容易的為我們的生命質量帶來提升與成長。經由學習與鍛煉即可改善現代人容易焦慮、緊張、註意力不集中的困擾，因犯小錯而內心糾結、自責而表現不佳，然後失去動力與熱情的負面影嚮。 \n而在實際的律動練習中，我們將看到自己的慣性糢式，搭配易經的指引，將會找出一條適合自己的改善之道，更加覺知敏銳同時又不受外界影嚮，輕松的面對生活與工作的挫折與壓力。為自己的生命帶來身心輕松，頭腦清楚，內外和諧，舉止優雅的品質。 \n?【課程內容】\n➤ 十分鐘看懂八個經卦及其象徵意義，為學習易經奠定基礎。\n➤ 看清卦象與錯、綜、複、雜等四種變化，應用於學習與生活工作。\n➤ 透過學習三支「律動」，深入觀察自己理智、情感、運動、和本能四種機能的慣性運作方式。\n➤ 深刻經驗在犯錯與挫折時，產生內心糾結與所帶來的負面影嚮，然後找出恰當的方式輕松穿越。\n➤ 學習在混亂當中，找到有用線索優雅脫困，鍛練自己解決問題與困難的能力。\n➤ 有效提升意識狀態，延長擁有註意力的時間，擴展註意力的廣度和深度，讓腦、心、腹三者和諧的一起工作，提升效率與質量，並且不受別人與外境影嚮。\n➤ 練習收攝心神，專註又放松的意識，處在寧靜、安祥與和諧的狀態中。 \n?【帶領導師】\n— 林世儒，高金美 —\n一對持續工作自己的靈魂伴侶，從事教學工作三十年。致力於用現代的方式詮釋古今中外的智慧，把經典落實在生活中，增進生命的質量。設計有「易學按摩」、「易學律動」、「易學正坐」等課程。發願以有生之年協助人們，透過「工作自己」的方式獲得身心內外的和諧和喜悅，進而成為自己並欣賞自己，然後融於社會又保有個體性，讓生命優游於生活之中。 \n華人知名身心靈作家張德芬贊譽說：「世儒和金美這對夫妻真的是活出了人間佳偶的風範。認真誠懇的質量，謙虛的態度，樸實的生活，始終歸於中心的定靜，在個人的修養、和做人、做事上真是讓我折服」。 \n系統排列大師海寧格先生曾寫信給世儒說：當你用你那一套特殊的方式為我按摩時，其結果是一種非比尋常而奇妙的重新排列，不只是發生在我的身體內部，同時也在我的靈魂與其他人之間發生重組的效用。我可以很確信地說：這對於很多尋求解除身體與靈魂痛苦的人而言，將會是一大祝福。 \n?【活動詳情】\n> 日期 … 6 – 8/12/2019（三天）\n> 時間 … 10am – 6pm\n> 地點 … Inner Peace Centre\nKuchai Lama\, Kuala Lumpur.\n> 費用 … RM1\,500 \n⭕️ 早鳥折扣\n7.6.19 ~ 30.06.19 ⇛ 15%（RM1\,275）\n1.7.19 ~ 31.7.19 ⇛ 10%（RM1\,350）\n1.8.19 ~ 31.8.19 ⇛ 5%（RM1\,425） \n✅ 報名請點擊 https://forms.gle/MMBVqr43GT8mFpPi9 \nℹ 電話詢問：凱慧 018-4032567 / 祖潔 012-3018006\nWhatsapp 請點擊 http://bit.ly/2Wk3Dlo
URL:https://www.samasati.org/event/%e6%98%93%e5%ad%a6%e5%be%8b%e5%8a%a8%e5%b7%a5%e4%bd%9c%e5%9d%8akuala-lumpur/
LOCATION:吉隆坡\, No 2-2-2nd Floor\, Jalan Kuchai Maju 10\, Kuchai Enterpreneurs’ Park\, Off Jalan Kuchai Lama\, Kuala Lumpur\, 馬來西亞
CATEGORIES:易學律動
END:VEVENT
BEGIN:VEVENT
DTSTART;TZID=Asia/Shanghai:20191115T093000
DTEND;TZID=Asia/Shanghai:20191117T180000
DTSTAMP:20260422T052020
CREATED:20190720T052501Z
LAST-MODIFIED:20190807T045904Z
UID:212-1573810200-1574013600@www.samasati.org
SUMMARY:易學律動/神聖舞蹈工作坊 (340 廈門)
DESCRIPTION:上課後最大的感覺，就是「喜歡」，喜歡的不得了。很喜歡跳舞過程中與自己在一起的感覺。喜歡它舞蹈的嚴謹和優美，而且對我這種頭腦太過靈活，絕對一心可以數用的人來說，這個舞蹈帶來的考驗是很特別的。就像世儒說的，靜坐的時候，我們常常走神而不自覺。 \n對我來說，靜坐是很痛苦的，因為過程中我得不停的和我的頭腦交戰，三十分鐘下來，自我安慰至少「坐」到了。但是在跳神聖舞蹈的時候，我必須專心一至，否則馬上跳錯。這種修練，不但有趣，有美感，而且可以曝露一個人的個性。看到自己對於做錯的反應，對於自己做不好的時候的態度，都在在顯示了你當下的狀態和對生活事件的慣性反應。 \n——張德芬（華人地區首席身心靈作家） \n易學律動——透過東西方古老的智慧，改善當今的生命質量。 \n· 容易學會的身心律動：看清慣性消除緊張焦慮自責，從錯誤中學習抗壓與穿越糾結，遇事不慌亂。 \n· 容易學成的基本練習：紮根地面改變體態擴大眼界，註意力歸於中心不受外界影嚮，內在有定力。 \n· 容易學好的易經智慧：調整心態有效改善生命質量，帶來身心和諧舉止優雅的品質，喜悅做自己。 \n甚麼是易學律動 \n數千年前東方的兩河流域（黃河、洛水）產生了華夏文明，而其智慧結晶「易經」指導著人們的生活至今。西方的兩河文明（幼發拉底河，底格裡斯河）則孕育出了類似舞蹈（葛吉夫律動）般的鍛練方式，來增進生命素質。 \n五千年後東西雙方的兩河文明在此相會，將會為我們的生命帶來甚麼進展？ \n神聖舞蹈的發現者和創始人葛吉夫，為了探索生命的奧祕，游遍中亞許多地方，他在參訪一些古老的修行團體、寺廟或特殊民族部落時，發現他們的一些舞蹈動作，活像一個字母表。舞蹈的每個手勢或姿勢都是一個字，組合起來就像一本書，每組動作、旋律都是一個語句，有它自身文法、詞彙及語義用法。古代的人，就通過音樂和這些舞蹈，把他們的智慧傳承下去。 \n具有三十年律動教學經驗的林世儒老師，近幾年來學習易經之後有著驚奇的發現，東西雙方的智慧竟然彼此融合且相互補充，可以簡單又容易的為我們的生命質量帶來提升與成長。經由學習與鍛鍊即可改善現代人容易焦慮、緊張、註意力不集中的困擾，因犯小錯而內心糾結、自責而表現不佳，然後失去動力與熱情的負面影嚮。 \n而在實際的律動練習中，我們將看到自己的慣性糢式，搭配易經的指引，將會找出一條適合自己的改善之道，更加覺知敏銳同時又不受外界影嚮，輕鬆的面對生活與工作的挫折與壓力。為自己的生命帶來身心輕松，頭腦清楚，內外和諧，舉止優雅的品質。 \n葛吉夫律動（易學律動）的效用？ \n初期它像一面照妖鏡原原本本照出自我的性格，初學者刻意想隱藏的自己，如焦慮、緊張、無助、挫折、走神、擔憂、自大、驕傲、忌妒、好功…..等負面情緒與思想。 \n學習過程中這些對生命成長沒有助益的部分將一一被去除，留下輕松、專註、優雅、寧靜、和諧、自信、穩定……正向素質。 \n與你的身體建立真實的、全然的、深入的聯結，並幫助與他人建立超越自我人格的，真實的、必要的聯結和更加臨在的交流。 \n加強我們在自己中心的能力，抗壓的能力，以及記得自己的能力；在你的左右腦之間建立新的神經連接，並開發右腦；找到內在男性能量和女性能量的平衡點。 \n超越我們3個層面的限制：身體，情感和理智，從而重獲自尊與自信；發展我們的三個中心，使他們和諧且平衡；成為真正能「做」的人；提升至更高品質的覺知及能量，將更多覺知的能量帶到我們這個星球。 \n遠離負面情緒，熱情全然的生活；幫助我們面對「我必須做」和「我做不到」之間內在掙紮；學會寬待我們的錯誤，並且有創造性的從錯誤中學習。 \n你願意體驗神聖舞蹈帶給你的喜悅和和平嗎？ \n工作坊內容 \n十分鐘看懂八個經卦及其象徵意義，為學習易經奠定基礎。\n看清卦象與錯、綜、複、雜等四種變化，應用於學習與生活工作。\n透過學習三支「律動」，深入觀察自己理智、情感、運動、和本能四種機能的慣性運作方式。\n深刻經驗在犯錯與挫折時，產生內心糾結與所帶來的負面影嚮，然後找出恰當的方式輕鬆穿越。\n學習在混亂當中，找到有用線索優雅脫困，鍛練自己解決問題與困難的能力。\n有效提升意識狀態，延長擁有註意力的時間，擴展註意力的廣度和深度，讓腦、心、腹三者和諧的一起工作，提升效率與質量，並且不受別人與外境影嚮。\n練習收攝心神，專註又放鬆的意識，處在寧靜、安祥與和諧的狀態中。\n導師介紹 \n林世儒，高金美。一對持續工作自己的靈魂伴侶，從事教學工作三十年。致力於用現代的方式詮釋古今中外的智慧，把經典落實在生活中，增進生命的質量。設計有「養生主靈性按摩」(易學按摩)、「葛吉夫神聖舞蹈」（易學律動）、「易學正坐」等課程。發願以有生之年協助人們，透過「工作自己」的方式獲得身心內外的和諧和喜悅，進而成為自己並欣賞自己，然後融於社會又保有個體性，讓生命優游於生活之中。 \n工作坊資訊 \n【日期】2019年11月15日-11月17日\n【時間】09:30~17:30\n【地址】廈門市思明區依蘭身心工作室\n【費用】4800元/人，10月15日前繳費報名可享受早鳥價4500元/人。\n【報名咨詢】依蘭身心工作室，Wendy，13400670790
URL:https://www.samasati.org/event/%e6%98%93%e5%ad%b8%e5%be%8b%e5%8b%95-%e7%a5%9e%e8%81%96%e8%88%9e%e8%b9%88%e5%b7%a5%e4%bd%9c%e5%9d%8a-340-%e5%bb%88%e9%96%80/
LOCATION:廈門\, 依蘭身心工作室\, 廈門\, 福建\, 中國
CATEGORIES:易學律動
END:VEVENT
BEGIN:VEVENT
DTSTART;TZID=Asia/Shanghai:20191001T193000
DTEND;TZID=Asia/Shanghai:20191001T213000
DTSTAMP:20260422T052020
CREATED:20190720T044202Z
LAST-MODIFIED:20190720T044412Z
UID:200-1569958200-1569965400@www.samasati.org
SUMMARY:易學律動/神聖舞蹈工作坊 (338台北)
DESCRIPTION:上課後最大的感覺，就是「喜歡」，喜歡的不得了。很喜歡跳舞過程中與自己在一起的感覺。喜歡它舞蹈的嚴謹和優美，而且對我這種頭腦太過靈活，絕對一心可以數用的人來說，這個舞蹈帶來的考驗是很特別的。就像世儒說的，靜坐的時候，我們常常走神而不自覺。 \n對我來說，靜坐是很痛苦的，因為過程中我得不停的和我的頭腦交戰，三十分鐘下來，自我安慰至少「坐」到了。但是在跳神聖舞蹈的時候，我必須專心一至，否則馬上跳錯。這種修練，不但有趣，有美感，而且可以曝露一個人的個性。看到自己對於做錯的反應，對於自己做不好的時候的態度，都在在顯示了你當下的狀態和對生活事件的慣性反應。 \n——張德芬（華人地區首席身心靈作家） \n\n易學律動——透過東西方古老的智慧，改善當今的生命質量。 \n· 容易學會的身心律動：看清慣性消除緊張焦慮自責，從錯誤中學習抗壓與穿越糾結，遇事不慌亂。 \n· 容易學成的基本練習：紮根地面改變體態擴大眼界，註意力歸於中心不受外界影嚮，內在有定力。 \n· 容易學好的易經智慧：調整心態有效改善生命質量，帶來身心和諧舉止優雅的品質，喜悅做自己。 \n\n甚麼是易學律動 \n數千年前東方的兩河流域（黃河、洛水）產生了華夏文明，而其智慧結晶「易經」指導著人們的生活至今。西方的兩河文明（幼發拉底河，底格裡斯河）則孕育出了類似舞蹈（葛吉夫律動）般的鍛練方式，來增進生命素質。 \n五千年後東西雙方的兩河文明在此相會，將會為我們的生命帶來甚麼進展？ \n神聖舞蹈的發現者和創始人葛吉夫，為了探索生命的奧祕，游遍中亞許多地方，他在參訪一些古老的修行團體、寺廟或特殊民族部落時，發現他們的一些舞蹈動作，活像一個字母表。舞蹈的每個手勢或姿勢都是一個字，組合起來就像一本書，每組動作、旋律都是一個語句，有它自身文法、詞彙及語義用法。古代的人，就通過音樂和這些舞蹈，把他們的智慧傳承下去。 \n具有三十年律動教學經驗的林世儒老師，近幾年來學習易經之後有著驚奇的發現，東西雙方的智慧竟然彼此融合且相互補充，可以簡單又容易的為我們的生命質量帶來提升與成長。經由學習與鍛鍊即可改善現代人容易焦慮、緊張、註意力不集中的困擾，因犯小錯而內心糾結、自責而表現不佳，然後失去動力與熱情的負面影嚮。 \n而在實際的律動練習中，我們將看到自己的慣性糢式，搭配易經的指引，將會找出一條適合自己的改善之道，更加覺知敏銳同時又不受外界影嚮，輕鬆的面對生活與工作的挫折與壓力。為自己的生命帶來身心輕松，頭腦清楚，內外和諧，舉止優雅的品質。 \n\n葛吉夫律動（易學律動）的效用？ \n初期它像一面照妖鏡原原本本照出自我的性格，初學者刻意想隱藏的自己，如焦慮、緊張、無助、挫折、走神、擔憂、自大、驕傲、忌妒、好功…..等負面情緒與思想。 \n學習過程中這些對生命成長沒有助益的部分將一一被去除，留下輕松、專註、優雅、寧靜、和諧、自信、穩定……正向素質。 \n與你的身體建立真實的、全然的、深入的聯結，並幫助與他人建立超越自我人格的，真實的、必要的聯結和更加臨在的交流。 \n加強我們在自己中心的能力，抗壓的能力，以及記得自己的能力；在你的左右腦之間建立新的神經連接，並開發右腦；找到內在男性能量和女性能量的平衡點。 \n超越我們3個層面的限制：身體，情感和理智，從而重獲自尊與自信；發展我們的三個中心，使他們和諧且平衡；成為真正能「做」的人；提升至更高品質的覺知及能量，將更多覺知的能量帶到我們這個星球。 \n遠離負面情緒，熱情全然的生活；幫助我們面對「我必須做」和「我做不到」之間內在掙紮；學會寬待我們的錯誤，並且有創造性的從錯誤中學習。 \n\n你願意體驗神聖舞蹈帶給你的喜悅和和平嗎？ \n工作坊內容 \n\n十分鐘看懂八個經卦及其象徵意義，為學習易經奠定基礎。\n看清卦象與錯、綜、複、雜等四種變化，應用於學習與生活工作。\n透過學習三支「律動」，深入觀察自己理智、情感、運動、和本能四種機能的慣性運作方式。\n深刻經驗在犯錯與挫折時，產生內心糾結與所帶來的負面影嚮，然後找出恰當的方式輕鬆穿越。\n學習在混亂當中，找到有用線索優雅脫困，鍛練自己解決問題與困難的能力。\n有效提升意識狀態，延長擁有註意力的時間，擴展註意力的廣度和深度，讓腦、心、腹三者和諧的一起工作，提升效率與質量，並且不受別人與外境影嚮。\n練習收攝心神，專註又放鬆的意識，處在寧靜、安祥與和諧的狀態中。\n\n導師介紹 \n林世儒，高金美。一對持續工作自己的靈魂伴侶，從事教學工作三十年。致力於用現代的方式詮釋古今中外的智慧，把經典落實在生活中，增進生命的質量。設計有「養生主靈性按摩」(易學按摩)、「葛吉夫神聖舞蹈」（易學律動）、「易學正坐」等課程。發願以有生之年協助人們，透過「工作自己」的方式獲得身心內外的和諧和喜悅，進而成為自己並欣賞自己，然後融於社會又保有個體性，讓生命優游於生活之中。 \n工作坊資訊 \n【日期】2019年10月1日-12月31日\n【時間】19:30~21:30\n【地址】 示如葛吉夫神聖舞團\n【費用】8500元/人\n【報名咨詢】Misherr 0922-424-275
URL:https://www.samasati.org/event/%e6%98%93%e5%ad%b8%e5%be%8b%e5%8b%95-%e7%a5%9e%e8%81%96%e8%88%9e%e8%b9%88%e5%b7%a5%e4%bd%9c%e5%9d%8a-338-%e5%8f%b0%e5%8c%97/
LOCATION:台北教室(二)\, 中山北路六段246號4樓\, 台北市\, 112\, 台灣
CATEGORIES:易學律動
ORGANIZER;CN="%E7%A4%BA%E5%A6%82%E8%91%9B%E5%90%89%E5%A4%AB%E7%A5%9E%E8%81%96%E8%88%9E%E5%9C%98":MAILTO:movement@samasati.org
END:VEVENT
BEGIN:VEVENT
DTSTART;TZID=Asia/Shanghai:20191001T013000
DTEND;TZID=Asia/Shanghai:20191001T033000
DTSTAMP:20260422T052020
CREATED:20190720T043017Z
LAST-MODIFIED:20190720T044324Z
UID:192-1569893400-1569900600@www.samasati.org
SUMMARY:易學律動/神聖舞蹈工作坊 (337 中壢)
DESCRIPTION:上課後最大的感覺，就是「喜歡」，喜歡的不得了。很喜歡跳舞過程中與自己在一起的感覺。喜歡它舞蹈的嚴謹和優美，而且對我這種頭腦太過靈活，絕對一心可以數用的人來說，這個舞蹈帶來的考驗是很特別的。就像世儒說的，靜坐的時候，我們常常走神而不自覺。 \n對我來說，靜坐是很痛苦的，因為過程中我得不停的和我的頭腦交戰，三十分鐘下來，自我安慰至少「坐」到了。但是在跳神聖舞蹈的時候，我必須專心一至，否則馬上跳錯。這種修練，不但有趣，有美感，而且可以曝露一個人的個性。看到自己對於做錯的反應，對於自己做不好的時候的態度，都在在顯示了你當下的狀態和對生活事件的慣性反應。 \n——張德芬（華人地區首席身心靈作家） \n\n易學律動——透過東西方古老的智慧，改善當今的生命質量。 \n· 容易學會的身心律動：看清慣性消除緊張焦慮自責，從錯誤中學習抗壓與穿越糾結，遇事不慌亂。 \n· 容易學成的基本練習：紮根地面改變體態擴大眼界，註意力歸於中心不受外界影嚮，內在有定力。 \n· 容易學好的易經智慧：調整心態有效改善生命質量，帶來身心和諧舉止優雅的品質，喜悅做自己。 \n\n甚麼是易學律動 \n數千年前東方的兩河流域（黃河、洛水）產生了華夏文明，而其智慧結晶「易經」指導著人們的生活至今。西方的兩河文明（幼發拉底河，底格裡斯河）則孕育出了類似舞蹈（葛吉夫律動）般的鍛練方式，來增進生命素質。 \n五千年後東西雙方的兩河文明在此相會，將會為我們的生命帶來甚麼進展？ \n神聖舞蹈的發現者和創始人葛吉夫，為了探索生命的奧祕，游遍中亞許多地方，他在參訪一些古老的修行團體、寺廟或特殊民族部落時，發現他們的一些舞蹈動作，活像一個字母表。舞蹈的每個手勢或姿勢都是一個字，組合起來就像一本書，每組動作、旋律都是一個語句，有它自身文法、詞彙及語義用法。古代的人，就通過音樂和這些舞蹈，把他們的智慧傳承下去。 \n具有三十年律動教學經驗的林世儒老師，近幾年來學習易經之後有著驚奇的發現，東西雙方的智慧竟然彼此融合且相互補充，可以簡單又容易的為我們的生命質量帶來提升與成長。經由學習與鍛鍊即可改善現代人容易焦慮、緊張、註意力不集中的困擾，因犯小錯而內心糾結、自責而表現不佳，然後失去動力與熱情的負面影嚮。 \n而在實際的律動練習中，我們將看到自己的慣性糢式，搭配易經的指引，將會找出一條適合自己的改善之道，更加覺知敏銳同時又不受外界影嚮，輕鬆的面對生活與工作的挫折與壓力。為自己的生命帶來身心輕松，頭腦清楚，內外和諧，舉止優雅的品質。 \n\n葛吉夫律動（易學律動）的效用？ \n初期它像一面照妖鏡原原本本照出自我的性格，初學者刻意想隱藏的自己，如焦慮、緊張、無助、挫折、走神、擔憂、自大、驕傲、忌妒、好功…..等負面情緒與思想。 \n學習過程中這些對生命成長沒有助益的部分將一一被去除，留下輕松、專註、優雅、寧靜、和諧、自信、穩定……正向素質。 \n與你的身體建立真實的、全然的、深入的聯結，並幫助與他人建立超越自我人格的，真實的、必要的聯結和更加臨在的交流。 \n加強我們在自己中心的能力，抗壓的能力，以及記得自己的能力；在你的左右腦之間建立新的神經連接，並開發右腦；找到內在男性能量和女性能量的平衡點。 \n超越我們3個層面的限制：身體，情感和理智，從而重獲自尊與自信；發展我們的三個中心，使他們和諧且平衡；成為真正能「做」的人；提升至更高品質的覺知及能量，將更多覺知的能量帶到我們這個星球。 \n遠離負面情緒，熱情全然的生活；幫助我們面對「我必須做」和「我做不到」之間內在掙紮；學會寬待我們的錯誤，並且有創造性的從錯誤中學習。 \n\n你願意體驗神聖舞蹈帶給你的喜悅和和平嗎？ \n工作坊內容 \n\n十分鐘看懂八個經卦及其象徵意義，為學習易經奠定基礎。\n看清卦象與錯、綜、複、雜等四種變化，應用於學習與生活工作。\n透過學習三支「律動」，深入觀察自己理智、情感、運動、和本能四種機能的慣性運作方式。\n深刻經驗在犯錯與挫折時，產生內心糾結與所帶來的負面影嚮，然後找出恰當的方式輕鬆穿越。\n學習在混亂當中，找到有用線索優雅脫困，鍛練自己解決問題與困難的能力。\n有效提升意識狀態，延長擁有註意力的時間，擴展註意力的廣度和深度，讓腦、心、腹三者和諧的一起工作，提升效率與質量，並且不受別人與外境影嚮。\n練習收攝心神，專註又放鬆的意識，處在寧靜、安祥與和諧的狀態中。\n\n導師介紹 \n林世儒，高金美。一對持續工作自己的靈魂伴侶，從事教學工作三十年。致力於用現代的方式詮釋古今中外的智慧，把經典落實在生活中，增進生命的質量。設計有「養生主靈性按摩」(易學按摩)、「葛吉夫神聖舞蹈」（易學律動）、「易學正坐」等課程。發願以有生之年協助人們，透過「工作自己」的方式獲得身心內外的和諧和喜悅，進而成為自己並欣賞自己，然後融於社會又保有個體性，讓生命優游於生活之中。 \n工作坊資訊 \n【時間】2019年10月1日-12月31日\n【時間】13:30~15:30\n【地址】 中壢。向光之徑\n【費用】8500元/人 \n【報名咨詢】Smita 0928-100-211
URL:https://www.samasati.org/event/%e6%98%93%e5%ad%b8%e5%be%8b%e5%8b%95-%e7%a5%9e%e8%81%96%e8%88%9e%e8%b9%88%e5%b7%a5%e4%bd%9c%e5%9d%8a-337-%e4%b8%ad%e5%a3%a2/
LOCATION:中壢\, 平鎮區貿五路77號\, 桃園市\, 台灣
CATEGORIES:易學律動
END:VEVENT
BEGIN:VEVENT
DTSTART;TZID=Asia/Shanghai:20190816T093000
DTEND;TZID=Asia/Shanghai:20190818T173000
DTSTAMP:20260422T052020
CREATED:20190720T031626Z
LAST-MODIFIED:20190720T034607Z
UID:170-1565947800-1566149400@www.samasati.org
SUMMARY:易學律動/神聖舞蹈工作坊 (336 無錫)
DESCRIPTION:上課後最大的感覺，就是「喜歡」，喜歡的不得了。很喜歡跳舞過程中與自己在一起的感覺。喜歡它舞蹈的嚴謹和優美，而且對我這種頭腦太過靈活，絕對一心可以數用的人來說，這個舞蹈帶來的考驗是很特別的。就像世儒說的，靜坐的時候，我們常常走神而不自覺。 \n對我來說，靜坐是很痛苦的，因為過程中我得不停的和我的頭腦交戰，三十分鐘下來，自我安慰至少「坐」到了。但是在跳神聖舞蹈的時候，我必須專心一至，否則馬上跳錯。這種修練，不但有趣，有美感，而且可以曝露一個人的個性。看到自己對於做錯的反應，對於自己做不好的時候的態度，都在在顯示了你當下的狀態和對生活事件的慣性反應。 \n——張德芬（華人地區首席身心靈作家） \n\n易學律動——透過東西方古老的智慧，改善當今的生命質量。 \n· 容易學會的身心律動：看清慣性消除緊張焦慮自責，從錯誤中學習抗壓與穿越糾結，遇事不慌亂。 \n· 容易學成的基本練習：紮根地面改變體態擴大眼界，註意力歸於中心不受外界影嚮，內在有定力。 \n· 容易學好的易經智慧：調整心態有效改善生命質量，帶來身心和諧舉止優雅的品質，喜悅做自己。 \n\n甚麼是易學律動 \n數千年前東方的兩河流域（黃河、洛水）產生了華夏文明，而其智慧結晶「易經」指導著人們的生活至今。西方的兩河文明（幼發拉底河，底格裡斯河）則孕育出了類似舞蹈（葛吉夫律動）般的鍛練方式，來增進生命素質。 \n五千年後東西雙方的兩河文明在此相會，將會為我們的生命帶來甚麼進展？ \n神聖舞蹈的發現者和創始人葛吉夫，為了探索生命的奧祕，游遍中亞許多地方，他在參訪一些古老的修行團體、寺廟或特殊民族部落時，發現他們的一些舞蹈動作，活像一個字母表。舞蹈的每個手勢或姿勢都是一個字，組合起來就像一本書，每組動作、旋律都是一個語句，有它自身文法、詞彙及語義用法。古代的人，就通過音樂和這些舞蹈，把他們的智慧傳承下去。 \n具有三十年律動教學經驗的林世儒老師，近幾年來學習易經之後有著驚奇的發現，東西雙方的智慧竟然彼此融合且相互補充，可以簡單又容易的為我們的生命質量帶來提升與成長。經由學習與鍛鍊即可改善現代人容易焦慮、緊張、註意力不集中的困擾，因犯小錯而內心糾結、自責而表現不佳，然後失去動力與熱情的負面影嚮。 \n而在實際的律動練習中，我們將看到自己的慣性糢式，搭配易經的指引，將會找出一條適合自己的改善之道，更加覺知敏銳同時又不受外界影嚮，輕鬆的面對生活與工作的挫折與壓力。為自己的生命帶來身心輕松，頭腦清楚，內外和諧，舉止優雅的品質。 \n\n葛吉夫律動（易學律動）的效用？ \n初期它像一面照妖鏡原原本本照出自我的性格，初學者刻意想隱藏的自己，如焦慮、緊張、無助、挫折、走神、擔憂、自大、驕傲、忌妒、好功…..等負面情緒與思想。 \n學習過程中這些對生命成長沒有助益的部分將一一被去除，留下輕松、專註、優雅、寧靜、和諧、自信、穩定……正向素質。 \n與你的身體建立真實的、全然的、深入的聯結，並幫助與他人建立超越自我人格的，真實的、必要的聯結和更加臨在的交流。 \n加強我們在自己中心的能力，抗壓的能力，以及記得自己的能力；在你的左右腦之間建立新的神經連接，並開發右腦；找到內在男性能量和女性能量的平衡點。 \n超越我們3個層面的限制：身體，情感和理智，從而重獲自尊與自信；發展我們的三個中心，使他們和諧且平衡；成為真正能「做」的人；提升至更高品質的覺知及能量，將更多覺知的能量帶到我們這個星球。 \n遠離負面情緒，熱情全然的生活；幫助我們面對「我必須做」和「我做不到」之間內在掙紮；學會寬待我們的錯誤，並且有創造性的從錯誤中學習。 \n\n你願意體驗神聖舞蹈帶給你的喜悅和和平嗎？ \n工作坊內容 \n\n十分鐘看懂八個經卦及其象徵意義，為學習易經奠定基礎。\n看清卦象與錯、綜、複、雜等四種變化，應用於學習與生活工作。\n透過學習三支「律動」，深入觀察自己理智、情感、運動、和本能四種機能的慣性運作方式。\n深刻經驗在犯錯與挫折時，產生內心糾結與所帶來的負面影嚮，然後找出恰當的方式輕鬆穿越。\n學習在混亂當中，找到有用線索優雅脫困，鍛練自己解決問題與困難的能力。\n有效提升意識狀態，延長擁有註意力的時間，擴展註意力的廣度和深度，讓腦、心、腹三者和諧的一起工作，提升效率與質量，並且不受別人與外境影嚮。\n練習收攝心神，專註又放鬆的意識，處在寧靜、安祥與和諧的狀態中。\n\n導師介紹 \n林世儒，高金美。一對持續工作自己的靈魂伴侶，從事教學工作三十年。致力於用現代的方式詮釋古今中外的智慧，把經典落實在生活中，增進生命的質量。設計有「養生主靈性按摩」(易學按摩)、「葛吉夫神聖舞蹈」（易學律動）、「易學正坐」等課程。發願以有生之年協助人們，透過「工作自己」的方式獲得身心內外的和諧和喜悅，進而成為自己並欣賞自己，然後融於社會又保有個體性，讓生命優游於生活之中。 \n工作坊資訊 \n【時間】2019年8月16日-18日\n【地址】 無錫。木春齋\n【費用】4800元/人 \n【優惠價格】\n【報名咨詢】
URL:https://www.samasati.org/event/170/
CATEGORIES:易學律動
END:VEVENT
BEGIN:VEVENT
DTSTART;TZID=UTC:20190809T093000
DTEND;TZID=UTC:20190811T173000
DTSTAMP:20260422T052020
CREATED:20190717T013426Z
LAST-MODIFIED:20190721T043854Z
UID:59-1565343000-1565544600@www.samasati.org
SUMMARY:易學律動/神聖舞蹈工作坊 (335 北京)
DESCRIPTION:上課後最大的感覺，就是「喜歡」，喜歡的不得了。很喜歡跳舞過程中與自己在一起的感覺。喜歡它舞蹈的嚴謹和優美，而且對我這種頭腦太過靈活，絕對一心可以數用的人來說，這個舞蹈帶來的考驗是很特別的。就像世儒說的，靜坐的時候，我們常常走神而不自覺。 \n對我來說，靜坐是很痛苦的，因為過程中我得不停的和我的頭腦交戰，三十分鐘下來，自我安慰至少「坐」到了。但是在跳神聖舞蹈的時候，我必須專心一至，否則馬上跳錯。這種修練，不但有趣，有美感，而且可以曝露一個人的個性。看到自己對於做錯的反應，對於自己做不好的時候的態度，都在在顯示了你當下的狀態和對生活事件的慣性反應。 \n——張德芬（華人地區首席身心靈作家） \n\n易學律動——透過東西方古老的智慧，改善當今的生命質量。 \n· 容易學會的身心律動：看清慣性消除緊張焦慮自責，從錯誤中學習抗壓與穿越糾結，遇事不慌亂。 \n· 容易學成的基本練習：紮根地面改變體態擴大眼界，註意力歸於中心不受外界影嚮，內在有定力。 \n· 容易學好的易經智慧：調整心態有效改善生命質量，帶來身心和諧舉止優雅的品質，喜悅做自己。 \n\n甚麼是易學律動 \n數千年前東方的兩河流域（黃河、洛水）產生了華夏文明，而其智慧結晶「易經」指導著人們的生活至今。西方的兩河文明（幼發拉底河，底格裡斯河）則孕育出了類似舞蹈（葛吉夫律動）般的鍛練方式，來增進生命素質。 \n五千年後東西雙方的兩河文明在此相會，將會為我們的生命帶來甚麼進展？ \n神聖舞蹈的發現者和創始人葛吉夫，為了探索生命的奧祕，游遍中亞許多地方，他在參訪一些古老的修行團體、寺廟或特殊民族部落時，發現他們的一些舞蹈動作，活像一個字母表。舞蹈的每個手勢或姿勢都是一個字，組合起來就像一本書，每組動作、旋律都是一個語句，有它自身文法、詞彙及語義用法。古代的人，就通過音樂和這些舞蹈，把他們的智慧傳承下去。 \n \n具有三十年律動教學經驗的林世儒老師，近幾年來學習易經之後有著驚奇的發現，東西雙方的智慧竟然彼此融合且相互補充，可以簡單又容易的為我們的生命質量帶來提升與成長。經由學習與鍛鍊即可改善現代人容易焦慮、緊張、註意力不集中的困擾，因犯小錯而內心糾結、自責而表現不佳，然後失去動力與熱情的負面影嚮。 \n而在實際的律動練習中，我們將看到自己的慣性糢式，搭配易經的指引，將會找出一條適合自己的改善之道，更加覺知敏銳同時又不受外界影嚮，輕鬆的面對生活與工作的挫折與壓力。為自己的生命帶來身心輕松，頭腦清楚，內外和諧，舉止優雅的品質。 \n\n葛吉夫律動（易學律動）的效用？ \n初期它像一面照妖鏡原原本本照出自我的性格，初學者刻意想隱藏的自己，如焦慮、緊張、無助、挫折、走神、擔憂、自大、驕傲、忌妒、好功…..等負面情緒與思想。 \n學習過程中這些對生命成長沒有助益的部分將一一被去除，留下輕松、專註、優雅、寧靜、和諧、自信、穩定……正向素質。 \n與你的身體建立真實的、全然的、深入的聯結，並幫助與他人建立超越自我人格的，真實的、必要的聯結和更加臨在的交流。 \n加強我們在自己中心的能力，抗壓的能力，以及記得自己的能力；在你的左右腦之間建立新的神經連接，並開發右腦；找到內在男性能量和女性能量的平衡點。 \n超越我們3個層面的限制：身體，情感和理智，從而重獲自尊與自信；發展我們的三個中心，使他們和諧且平衡；成為真正能「做」的人；提升至更高品質的覺知及能量，將更多覺知的能量帶到我們這個星球。 \n遠離負面情緒，熱情全然的生活；幫助我們面對「我必須做」和「我做不到」之間內在掙紮；學會寬待我們的錯誤，並且有創造性的從錯誤中學習。 \n\n你願意體驗神聖舞蹈帶給你的喜悅和和平嗎？ \n工作坊內容 \n\n十分鐘看懂八個經卦及其象徵意義，為學習易經奠定基礎。\n看清卦象與錯、綜、複、雜等四種變化，應用於學習與生活工作。\n透過學習三支「律動/神聖舞蹈」，深入觀察自己理智、情感、運動、和本能四種機能的慣性運作方式。\n深刻經驗在犯錯與挫折時，產生內心糾結與所帶來的負面影嚮，然後找出恰當的方式輕鬆穿越。\n學習在混亂當中，找到有用線索優雅脫困，鍛練自己解決問題與困難的能力。\n有效提升意識狀態，延長擁有註意力的時間，擴展註意力的廣度和深度，讓腦、心、腹三者和諧的一起工作，提升效率與質量，並且不受別人與外境影嚮。\n練習收攝心神，專註又放鬆的意識，處在寧靜、安祥與和諧的狀態中。\n\n\n導師介紹 \n林世儒，高金美。一對持續工作自己的靈魂伴侶，從事教學工作三十年。致力於用現代的方式詮釋古今中外的智慧，把經典落實在生活中，增進生命的質量。設計有「養生主靈性按摩」(易學按摩)、「葛吉夫神聖舞蹈」（易學律動）、「易學正坐」等課程。發願以有生之年協助人們，透過「工作自己」的方式獲得身心內外的和諧和喜悅，進而成為自己並欣賞自己，然後融於社會又保有個體性，讓生命優游於生活之中。 \n\n工作坊資訊 \n【時間】2019年8月9日-11日\n【地址】 北京市·朝陽區·長楹天街\n【費用】4800元/人 \n【優惠價格】早鳥價4500元/人，7月21日前繳費報名可享受\n【報名咨詢】心靈自由·貝殼，微信dearestbei07
URL:https://www.samasati.org/event/%e6%98%93%e5%ad%b8%e5%be%8b%e5%8b%95-%e7%a5%9e%e8%81%96%e8%88%9e%e8%b9%88%e5%b7%a5%e4%bd%9c%e5%9d%8a-%e5%8c%97%e4%ba%ac/
LOCATION:北京\, 北京\, 中國
CATEGORIES:易學律動
END:VEVENT
BEGIN:VEVENT
DTSTART;TZID=Asia/Taipei:20190803T103000
DTEND;TZID=Asia/Taipei:20190803T183000
DTSTAMP:20260422T052020
CREATED:20190714T225711Z
LAST-MODIFIED:20190721T053320Z
UID:11-1564828200-1564857000@www.samasati.org
SUMMARY:易經 x 葛吉夫律動體驗工作坊(台北)
DESCRIPTION:易經與律動——透過東西兩河文明的智慧，改善當今的生命質量。 \n​數千年前東方的兩河流域（黃河洛水）產生了華夏文明，而其智慧結晶「易經」指導著人們的生活至今。西方的兩河文明（幼發拉底河，底格里斯河）則孕育出了類似舞蹈（葛吉夫律動/神聖舞蹈）的鍛練方式，來增進生命素質。五千年後東西兩河文明在此相會，將會為我們的生命帶來什麼進展？ \n​具有近三十年律動教學經驗的林世儒老師，將分享他接觸易經之後的驚奇進展。融合東西兩河的智慧來改善現代人容易焦慮、緊張、注意力不集中的困擾，因犯小錯而內心糾結、自責而表現不佳，然後失去動力與熱情的負面影響。 \n​在實際的律動練習之後，我們將看到自己的慣性模式，搭配易經的指引，將會找出一條適合自己的改善之道，更加覺知敏銳同時又不受外界影響，輕鬆的面對生活與工作的挫折與壓力。為自己的生命帶來身心輕鬆，頭腦清楚，內外和諧，舉止優雅的品質。 \n▲ 經由東西方兩河文明的啟發，透過「易經」與「律動」的智慧改善生命質量。 \n▲ 看清自己的慣性，消除焦慮、緊張、自責、擔心犯錯而表現不佳，與容易受人影響的困擾。 \n▲ 為自己的生命帶來身心輕鬆，頭腦清楚，內外和諧，舉止優雅的品質。 \n\n【誰是葛吉夫？】 \n​葛吉夫（George Ivanovich Gurdjieff）為二十世紀初極具影響力的神秘主義家與靈修導師。有二十世紀的達摩之稱，奧修更讚譽他是世界上最偉大的老師。 \n​他的整個教導核心在於：人要完成可能的進化（從昏睡中清醒），就先得認識自己，以及「記得自己」（Self-Remeberance）。他所創立的「第四道」，著重於讓身體、心智與情感同時保持平衡運作，是一種嶄新且適合現代人深入探索自己的方式。 \n\n【葛吉夫律動／神聖舞蹈】 \n葛吉夫在中亞一帶對東方舞蹈多年研究發現，這些古老的舞蹈都未喪失那些深遠的意義：宗教性、神秘性與科學性。神聖舞蹈在這些古老的神祕學校裡，一直都是重要的學習科目。這些舞蹈有雙重的意義：它們蘊含並傳遞某些神秘知識，同時也藉此達到身心整體的和諧狀態。 \n葛吉夫將這些古老舞蹈發展成葛吉夫律動（Gurdjieff Movements）或稱神聖舞蹈，是在葛吉夫工作中很核心的教導，目的是「讓人透過律動，將智性、情感與身體整合在一起」。葛吉夫說：「能夠讓理性、情感和身體這三個中心同時和諧一起工作的人，才是完整的人」。 \n​雖然被稱為「神聖舞蹈」，但它與其他所有舞蹈完全不同。對於修習葛吉夫律動的人來說，它帶給舞者心理上異常強烈的衝擊，令人實際經驗到意識擴大與延展。​ \n\n關於帶領人\n林世儒，自許為「一個走在成為自己道路上的人」。 \n1990年接觸到葛吉夫律動，受到極大的衝擊和感動，驚嘆天下竟然有如此當下，有如此優美的法門，於是發願要將「律動」帶進台灣生根茁壯，經過數年學習後開始在台灣教學，現已拓展至大陸和馬來西亞，十數個城市，目前在台灣、廣州、南寧組有舞團，北京、上海、呼和浩特則有長期共修團體。 \n二十多年來帶領了近三百場3～10天不等的葛吉夫律動工作坊，影響數千人及其工作與家庭，有數百篇的學員分享文章紀錄學習與蛻變的過程和成果。目前除了每週在不同城市授課之外，開始深入研究「易經」，發現可與「律動」相互補充，彼此呼應，達到深入淺出，事半功倍的教學效果，學員的興趣和學習成效獲得大幅提升，這將成為落實願望讓「律動」在台灣與大陸生根茁壯的開始。 \n\n時間/ 2019/08 /03 (六） 10:30 ~ 18:30\n地點/ 松菸LAB創意實驗室\n費用/ $1\,800 兩人同行$1\,500/人。(示如老學員另有優惠，請在Line學員群詢問。)\n聯絡/高金美 0922-424-275 \n匯款資訊: \n銀行:台灣銀行五股分行\n戶名:高金美\n帳號:(004)135004617963 \n\n[contact-form-7 id=”24″ title=”易經 x 葛吉夫律動體驗工作坊 報名表”]
URL:https://www.samasati.org/event/%e6%98%93%e7%b6%93-x-%e8%91%9b%e5%90%89%e5%a4%ab%e5%be%8b%e5%8b%95%e9%ab%94%e9%a9%97%e5%b7%a5%e4%bd%9c%e5%9d%8a/
LOCATION:台北松山文創園區\, 信義區光復南路133號LAB創意實驗室\, 臺北市\, 台灣
CATEGORIES:易學律動
ATTACH;FMTTYPE=image/jpeg:https://www.samasati.org/wp-content/uploads/2019/07/IMG_1151.jpg
ORGANIZER;CN="%E7%A4%BA%E5%A6%82%E8%91%9B%E5%90%89%E5%A4%AB%E7%A5%9E%E8%81%96%E8%88%9E%E5%9C%98":MAILTO:movement@samasati.org
END:VEVENT
BEGIN:VEVENT
DTSTART;TZID=UTC:20190724T093000
DTEND;TZID=UTC:20190728T173000
DTSTAMP:20260422T052020
CREATED:20190714T232403Z
LAST-MODIFIED:20190720T032353Z
UID:13-1563960600-1564335000@www.samasati.org
SUMMARY:易學律動/神聖舞蹈工作坊 (334 上海五日營)
DESCRIPTION:容易學會的身心律動：看清慣性消除緊張焦慮自責，從錯誤中學習抗壓與穿越糾結，遇事不慌亂。 \n容易學成的基本練習：紮根地面改變體態擴大眼界，註意力歸於中心不受外界影嚮，內在有定力。 \n容易學好的易經智慧：調整心態有效改善生命質量，帶來身心和諧舉止優雅的品質，喜悅做自己。 \n\n\n\n\n\n\n\n\n課程簡介 \n\n\n\n數千年前，東方的兩河流域（黃河、洛水）產生了華夏文明，而其智慧結晶《易經》指導人們的生活至今；西方的兩河文明（幼發拉底河，底格裡斯河）則孕育出了類似舞蹈（葛吉夫律動）般的鍛煉方式，來增進生命素質。五千年後東西雙方的兩河文明在此相會，將會為我們的生命帶來甚麼進展？\n具有三十年律動教學經驗的林世儒老師，近幾年來學習《易經》之後有著驚奇的發現，東西雙方的智慧竟然彼此融合且相互補充，可以簡單又容易地為我們的生命質量帶來提升與成長。經由學習與鍛煉即可改善現代人容易焦慮、緊張、註意力不集中等困擾，因犯小錯而內心糾結、自責而表現不佳，然後失去動力與熱情等負面影嚮。\n而在實際的律動練習中，我們將看到自己的慣性糢式，搭配《易經》的指引，將會找出一條適合自己的改善之道，更加覺知、敏銳同時又不受外界影嚮，輕松面對生活與工作的挫折與壓力。為自己的生命帶來身心輕松、頭腦清楚、內外和諧、舉止優雅的品質。\n\n\n\n\n\n\n\n課程內容\n\n十分鐘看懂八個經卦及其象徵意義，為學習《易經》奠定基礎；\n看清卦象及其錯、綜、複、雜等四種變化，應用於學習與生活工作；\n透過學習三支「律動」，深入觀察自己理智、情感、運動、和本能四種機能的慣性運作方式；\n深刻經驗在犯錯與挫折時，產生內心糾結與所帶來的負面影嚮，然後找出恰當的方式輕松穿越；\n學習在混亂當中，找到有用線索進而優雅脫困，鍛煉自己解決問題與困難的能力；\n有效提升意識狀態，延長擁有註意力的時間，擴展註意力的廣度與深度，讓腦、心、腹三者和諧地一起工作，提升效率與質量，並且不受別人與外境影嚮；\n練習收攝心神，專註又放松的意識，處在寧靜、安祥與和諧的狀態中。\n\n\n\n\n\n\n\n\n\n老師簡介\n\n\n\n\n\n\n林世儒、高金美老師\n\n\n\n\n\n一對持續工作自己的靈魂伴侶，從事教學工作三十年。致力於用現代的方式詮釋古今中外的智慧，把經典落實在生活中，增進生命的質量。設計有「易學按摩」、「易學律動」、「易學正坐」等課程。發願以有生之年協助人們，透過「工作自己」的方式獲得身心內外的和諧與喜悅，進而成為自己並欣賞自己，然後融於社會又保有個體性，讓生命優游於生活之中。\n\n\n\n\n\n\n\n\n\n\n\n\n\n\n\n\n\n\n\n他（她）們說:\n\n華人知名身心靈作家張德芬贊譽說：「世儒和金美這對靈修夫妻真的是活出了靈修佳偶的風範。認真誠懇的質量，謙虛的態度，樸實的生活，始終歸於中心的定靜，在個人的修養、和做人、做事上真是讓我折服」。\n\n\n\n\n\n系統排列大師海靈格先生曾寫信給世儒說：當你用你那一套特殊的方式為我按摩時，其結果是一種非比尋常而奇妙的重新排列，不只是發生在我的身體內部，同時也在我的靈魂與其他人之間發生重組的效用。我可以很確信地說：這個對於很多尋求解除身體與靈魂痛苦的人而言，將會是一大祝福。\n\n\n\n\n\n\n\n\n適合對象\n\n\n\n\n\n\n\n\n\n有心靈成長需求、追求內心平靜的人；\n想提高覺察力、溝通能力、增加幸福的人；\n希望改善親密關系的成人；\n從事心理行業、教育行業、倡導人性化管理的工作者。\n\n\n\n\n\n\n\n\n\n\n\n\n\n\n報名資訊 \n\n\n\n\n\n\n\n\n\n主辦方：上海靜儀文化傳播有限公司\n時間：2019年7月24–28日（9:30~17:30）\n地址：上海市\n學費：8000元人民幣/人（不含食宿）\n\n6月10日之前報名優惠價：\n\n新學員：7800元/人；\n三人團購價：7500元/人；\n老學員：7500元/人（指上過林世儒老師易學律動|神聖舞蹈的老學員）。\n\n\n\n\n\n\n\n\n\n\n\n\n課程咨詢\n\n\n\n\n\n王正彥：17717541618（微信同）\n安   鴻：18964049260（微信同）\n\n\n\n\n\n\n\n\n\n\n\n\n報名繳費\n\n\n\n\n1、付款：\n\n支付寶賬戶：13661686964@139.com 朱靜\n工商銀行：622202 1001136460133 (上海市周浦支行) 朱靜\n公司賬戶：上海靜儀文化傳播有限公司\n賬號：310066632018170187586\n開戶行：交通銀行股份有限公司上海漕河涇支行\n\n\n2、發送報名簡訊：\n\n付款成功後，請發送如下格式微信或簡訊至: 17717541618 王正彥（行動電話同微信）「易學律動，付款金額，付款人某某，參加人某某，性別」\n特別提醒：為讓報名工作順利，報名簡訊資訊請務必發送完整！\n\n\n3、填寫報名表：\n\n主辦方收到款項和報名簡訊會回覆並發送報名表給您，請您盡快填好報名表並發回給主辦方。\n\n\n\n\n\n\n\n\n【溫馨提醒】\n\n★為便於活動，請著輕便裝，最好是運動衣褲。\n★更多關於葛吉夫神聖舞蹈經驗分享，請瀏覽林老師的網站：www.samasati.org\n\n\n\n\n\n\n\n\n\n\n\n\n\n\n\n\n\n\n\n\n\n\n\n\n\n\n\n\n\n\n 
URL:https://www.samasati.org/event/%e6%98%93%e5%ad%a6%e5%be%8b%e5%8a%a8%ef%bc%88%e7%a5%9e%e5%9c%a3%e8%88%9e%e8%b9%88%ef%bc%89%e5%b7%a5%e4%bd%9c%e5%9d%8a/
LOCATION:上海\, 上海\, 中國
CATEGORIES:易學律動
END:VEVENT
END:VCALENDAR